BEGIN:VCALENDAR
VERSION:2.0
PRODID:-//Good Shepherd - ECPv6.15.20//NONSGML v1.0//EN
CALSCALE:GREGORIAN
METHOD:PUBLISH
X-ORIGINAL-URL:https://goodshepherdutah.com
X-WR-CALDESC:Events for Good Shepherd
REFRESH-INTERVAL;VALUE=DURATION:PT1H
X-Robots-Tag:noindex
X-PUBLISHED-TTL:PT1H
BEGIN:VTIMEZONE
TZID:America/Denver
BEGIN:DAYLIGHT
TZOFFSETFROM:-0700
TZOFFSETTO:-0600
TZNAME:MDT
DTSTART:20250309T090000
END:DAYLIGHT
BEGIN:STANDARD
TZOFFSETFROM:-0600
TZOFFSETTO:-0700
TZNAME:MST
DTSTART:20251102T080000
END:STANDARD
BEGIN:DAYLIGHT
TZOFFSETFROM:-0700
TZOFFSETTO:-0600
TZNAME:MDT
DTSTART:20260308T090000
END:DAYLIGHT
BEGIN:STANDARD
TZOFFSETFROM:-0600
TZOFFSETTO:-0700
TZNAME:MST
DTSTART:20261101T080000
END:STANDARD
BEGIN:DAYLIGHT
TZOFFSETFROM:-0700
TZOFFSETTO:-0600
TZNAME:MDT
DTSTART:20270314T090000
END:DAYLIGHT
BEGIN:STANDARD
TZOFFSETFROM:-0600
TZOFFSETTO:-0700
TZNAME:MST
DTSTART:20271107T080000
END:STANDARD
END:VTIMEZONE
BEGIN:VEVENT
DTSTART;TZID=America/Denver:20260412T123000
DTEND;TZID=America/Denver:20260412T143000
DTSTAMP:20260425T093214
CREATED:20260319T195117Z
LAST-MODIFIED:20260319T195541Z
UID:10001204-1775997000-1776004200@goodshepherdutah.com
SUMMARY:Regular Meeting of the Congregation
DESCRIPTION:Regular Meeting of the Congregation\, April 12 @12:30\nThis spring meeting gives congregants a change to see what goes on behind the scenes through reports from our Board of Trustee\, Missions & Ministries teams and church departments.
URL:https://goodshepherdutah.com/event/regular-meeting-of-the-congregation/
LOCATION:Good Shepherd Lutheran Church\, 8575 South 700 East\, Sandy\, Utah\, 84070\, United States
CATEGORIES:All Church Event,Church Meeting
ATTACH;FMTTYPE=image/jpeg:https://goodshepherdutah.com/wp-content/uploads/2026/03/Christian-Church-Logo-1920-x-1920-px-Presentation-1.jpg
ORGANIZER;CN="Good Shepherd":MAILTO:shepherd@gslc.net
END:VEVENT
END:VCALENDAR