BEGIN:VCALENDAR
VERSION:2.0
PRODID:-//Good Shepherd - ECPv6.15.20//NONSGML v1.0//EN
CALSCALE:GREGORIAN
METHOD:PUBLISH
X-ORIGINAL-URL:https://goodshepherdutah.com
X-WR-CALDESC:Events for Good Shepherd
REFRESH-INTERVAL;VALUE=DURATION:PT1H
X-Robots-Tag:noindex
X-PUBLISHED-TTL:PT1H
BEGIN:VTIMEZONE
TZID:America/Denver
BEGIN:DAYLIGHT
TZOFFSETFROM:-0700
TZOFFSETTO:-0600
TZNAME:MDT
DTSTART:20250309T090000
END:DAYLIGHT
BEGIN:STANDARD
TZOFFSETFROM:-0600
TZOFFSETTO:-0700
TZNAME:MST
DTSTART:20251102T080000
END:STANDARD
BEGIN:DAYLIGHT
TZOFFSETFROM:-0700
TZOFFSETTO:-0600
TZNAME:MDT
DTSTART:20260308T090000
END:DAYLIGHT
BEGIN:STANDARD
TZOFFSETFROM:-0600
TZOFFSETTO:-0700
TZNAME:MST
DTSTART:20261101T080000
END:STANDARD
BEGIN:DAYLIGHT
TZOFFSETFROM:-0700
TZOFFSETTO:-0600
TZNAME:MDT
DTSTART:20270314T090000
END:DAYLIGHT
BEGIN:STANDARD
TZOFFSETFROM:-0600
TZOFFSETTO:-0700
TZNAME:MST
DTSTART:20271107T080000
END:STANDARD
END:VTIMEZONE
BEGIN:VEVENT
DTSTART;TZID=America/Denver:20260329T080000
DTEND;TZID=America/Denver:20260329T090000
DTSTAMP:20260424T165213
CREATED:20260302T215613Z
LAST-MODIFIED:20260302T215613Z
UID:10001184-1774771200-1774774800@goodshepherdutah.com
SUMMARY:Palm Sunday
DESCRIPTION:Services at 8:00 am and 9:30 am.
URL:https://goodshepherdutah.com/event/palm-sunday/2026-03-29/1/
LOCATION:Good Shepherd Lutheran Church\, 8575 South 700 East\, Sandy\, Utah\, 84070\, United States
CATEGORIES:Worship Service
ATTACH;FMTTYPE=image/jpeg:https://goodshepherdutah.com/wp-content/uploads/2026/03/Beige-and-Green-Watercolor-Palm-Sunday-Service-Facebook-Post-Presentation-1.jpg
ORGANIZER;CN="Good Shepherd":MAILTO:shepherd@gslc.net
END:VEVENT
BEGIN:VEVENT
DTSTART;TZID=America/Denver:20260329T093000
DTEND;TZID=America/Denver:20260329T103000
DTSTAMP:20260424T165213
CREATED:20260302T215613Z
LAST-MODIFIED:20260302T215613Z
UID:10001185-1774776600-1774780200@goodshepherdutah.com
SUMMARY:Palm Sunday
DESCRIPTION:Services at 8:00 am and 9:30 am.
URL:https://goodshepherdutah.com/event/palm-sunday/2026-03-29/2/
LOCATION:Good Shepherd Lutheran Church\, 8575 South 700 East\, Sandy\, Utah\, 84070\, United States
CATEGORIES:Worship Service
ATTACH;FMTTYPE=image/jpeg:https://goodshepherdutah.com/wp-content/uploads/2026/03/Beige-and-Green-Watercolor-Palm-Sunday-Service-Facebook-Post-Presentation-1.jpg
ORGANIZER;CN="Good Shepherd":MAILTO:shepherd@gslc.net
END:VEVENT
END:VCALENDAR