BEGIN:VCALENDAR
VERSION:2.0
PRODID:-//Good Shepherd - ECPv6.15.20//NONSGML v1.0//EN
CALSCALE:GREGORIAN
METHOD:PUBLISH
X-ORIGINAL-URL:https://goodshepherdutah.com
X-WR-CALDESC:Events for Good Shepherd
REFRESH-INTERVAL;VALUE=DURATION:PT1H
X-Robots-Tag:noindex
X-PUBLISHED-TTL:PT1H
BEGIN:VTIMEZONE
TZID:America/Denver
BEGIN:DAYLIGHT
TZOFFSETFROM:-0700
TZOFFSETTO:-0600
TZNAME:MDT
DTSTART:20250309T090000
END:DAYLIGHT
BEGIN:STANDARD
TZOFFSETFROM:-0600
TZOFFSETTO:-0700
TZNAME:MST
DTSTART:20251102T080000
END:STANDARD
BEGIN:DAYLIGHT
TZOFFSETFROM:-0700
TZOFFSETTO:-0600
TZNAME:MDT
DTSTART:20260308T090000
END:DAYLIGHT
BEGIN:STANDARD
TZOFFSETFROM:-0600
TZOFFSETTO:-0700
TZNAME:MST
DTSTART:20261101T080000
END:STANDARD
BEGIN:DAYLIGHT
TZOFFSETFROM:-0700
TZOFFSETTO:-0600
TZNAME:MDT
DTSTART:20270314T090000
END:DAYLIGHT
BEGIN:STANDARD
TZOFFSETFROM:-0600
TZOFFSETTO:-0700
TZNAME:MST
DTSTART:20271107T080000
END:STANDARD
END:VTIMEZONE
BEGIN:VEVENT
DTSTART;TZID=America/Denver:20260419T093000
DTEND;TZID=America/Denver:20260419T103000
DTSTAMP:20260424T153551
CREATED:20260318T174716Z
LAST-MODIFIED:20260413T163538Z
UID:10001529-1776591000-1776594600@goodshepherdutah.com
SUMMARY:Sunday Morning Worship
DESCRIPTION:Join us for worship on Sunday mornings at Good Shepherd. Services are held at 8:00 and 9:30 AM. The 8:00 and 9:30 AM services are available online. We would love to have you join us this weekend
URL:https://goodshepherdutah.com/event/sunday-morning-worship/2026-04-19/
LOCATION:Good Shepherd\, 8575 South 700 East\, Sandy\, Utah\, 84070\, United States
CATEGORIES:Worship Service
ATTACH;FMTTYPE=image/png:https://goodshepherdutah.com/wp-content/uploads/2024/02/Worship.001.png
ORGANIZER;CN="Good Shepherd":MAILTO:shepherd@gslc.net
END:VEVENT
BEGIN:VEVENT
DTSTART;TZID=America/Denver:20260419T080000
DTEND;TZID=America/Denver:20260419T090000
DTSTAMP:20260424T153551
CREATED:20260413T162145Z
LAST-MODIFIED:20260413T162146Z
UID:10000129-1776585600-1776589200@goodshepherdutah.com
SUMMARY:Sunday Morning Worship
DESCRIPTION:Join us for worship on Sunday mornings at Good Shepherd. Services are held at 8:00 and 9:30 AM. The 8:00 and 9:30 AM services are available online. We would love to have you join us this weekend
URL:https://goodshepherdutah.com/event/sunday-morning-worship-4-3-2-2/2026-04-19/
LOCATION:Good Shepherd\, 8575 South 700 East\, Sandy\, Utah\, 84070\, United States
CATEGORIES:Worship Service
ATTACH;FMTTYPE=image/png:https://goodshepherdutah.com/wp-content/uploads/2024/02/Worship.001.png
ORGANIZER;CN="Good Shepherd":MAILTO:shepherd@gslc.net
END:VEVENT
BEGIN:VEVENT
DTSTART;TZID=America/Denver:20260405T093000
DTEND;TZID=America/Denver:20260405T103000
DTSTAMP:20260424T153551
CREATED:20260302T223915Z
LAST-MODIFIED:20260302T223915Z
UID:10001189-1775381400-1775385000@goodshepherdutah.com
SUMMARY:Easter
DESCRIPTION:
URL:https://goodshepherdutah.com/event/easter/2026-04-05/2/
LOCATION:Good Shepherd Lutheran Church\, 8575 South 700 East\, Sandy\, Utah\, 84070\, United States
CATEGORIES:Worship Service
ATTACH;FMTTYPE=image/png:https://goodshepherdutah.com/wp-content/uploads/2026/03/Orange-and-Green-Easter-Service-Presentation-Instagram-Post-45-2.png
ORGANIZER;CN="Good Shepherd":MAILTO:shepherd@gslc.net
END:VEVENT
BEGIN:VEVENT
DTSTART;TZID=America/Denver:20260405T080000
DTEND;TZID=America/Denver:20260405T090000
DTSTAMP:20260424T153551
CREATED:20260302T223915Z
LAST-MODIFIED:20260302T223915Z
UID:10001188-1775376000-1775379600@goodshepherdutah.com
SUMMARY:Easter
DESCRIPTION:
URL:https://goodshepherdutah.com/event/easter/2026-04-05/1/
LOCATION:Good Shepherd Lutheran Church\, 8575 South 700 East\, Sandy\, Utah\, 84070\, United States
CATEGORIES:Worship Service
ATTACH;FMTTYPE=image/png:https://goodshepherdutah.com/wp-content/uploads/2026/03/Orange-and-Green-Easter-Service-Presentation-Instagram-Post-45-2.png
ORGANIZER;CN="Good Shepherd":MAILTO:shepherd@gslc.net
END:VEVENT
BEGIN:VEVENT
DTSTART;TZID=America/Denver:20260403T190000
DTEND;TZID=America/Denver:20260403T200000
DTSTAMP:20260424T153551
CREATED:20260302T224149Z
LAST-MODIFIED:20260304T190959Z
UID:10001191-1775242800-1775246400@goodshepherdutah.com
SUMMARY:Good Friday Service
DESCRIPTION:
URL:https://goodshepherdutah.com/event/good-friday-service/
LOCATION:Good Shepherd Lutheran Church\, 8575 South 700 East\, Sandy\, Utah\, 84070\, United States
CATEGORIES:Worship Service
ATTACH;FMTTYPE=image/jpeg:https://goodshepherdutah.com/wp-content/uploads/2026/03/IMG_2768.jpeg
ORGANIZER;CN="Good Shepherd":MAILTO:shepherd@gslc.net
END:VEVENT
BEGIN:VEVENT
DTSTART;TZID=America/Denver:20260402T190000
DTEND;TZID=America/Denver:20260402T200000
DTSTAMP:20260424T153551
CREATED:20260302T224054Z
LAST-MODIFIED:20260304T191030Z
UID:10001190-1775156400-1775160000@goodshepherdutah.com
SUMMARY:Maundy Thursday Service
DESCRIPTION:
URL:https://goodshepherdutah.com/event/maundy-thursday/
LOCATION:Good Shepherd Lutheran Church\, 8575 South 700 East\, Sandy\, Utah\, 84070\, United States
CATEGORIES:Worship Service
ATTACH;FMTTYPE=image/jpeg:https://goodshepherdutah.com/wp-content/uploads/2026/03/IMG_2769.jpeg
ORGANIZER;CN="Good Shepherd":MAILTO:shepherd@gslc.net
END:VEVENT
BEGIN:VEVENT
DTSTART;TZID=America/Denver:20260329T093000
DTEND;TZID=America/Denver:20260329T103000
DTSTAMP:20260424T153551
CREATED:20260302T215613Z
LAST-MODIFIED:20260302T215613Z
UID:10001185-1774776600-1774780200@goodshepherdutah.com
SUMMARY:Palm Sunday
DESCRIPTION:Services at 8:00 am and 9:30 am.
URL:https://goodshepherdutah.com/event/palm-sunday/2026-03-29/2/
LOCATION:Good Shepherd Lutheran Church\, 8575 South 700 East\, Sandy\, Utah\, 84070\, United States
CATEGORIES:Worship Service
ATTACH;FMTTYPE=image/jpeg:https://goodshepherdutah.com/wp-content/uploads/2026/03/Beige-and-Green-Watercolor-Palm-Sunday-Service-Facebook-Post-Presentation-1.jpg
ORGANIZER;CN="Good Shepherd":MAILTO:shepherd@gslc.net
END:VEVENT
BEGIN:VEVENT
DTSTART;TZID=America/Denver:20260329T080000
DTEND;TZID=America/Denver:20260329T090000
DTSTAMP:20260424T153551
CREATED:20260302T215613Z
LAST-MODIFIED:20260302T215613Z
UID:10001184-1774771200-1774774800@goodshepherdutah.com
SUMMARY:Palm Sunday
DESCRIPTION:Services at 8:00 am and 9:30 am.
URL:https://goodshepherdutah.com/event/palm-sunday/2026-03-29/1/
LOCATION:Good Shepherd Lutheran Church\, 8575 South 700 East\, Sandy\, Utah\, 84070\, United States
CATEGORIES:Worship Service
ATTACH;FMTTYPE=image/jpeg:https://goodshepherdutah.com/wp-content/uploads/2026/03/Beige-and-Green-Watercolor-Palm-Sunday-Service-Facebook-Post-Presentation-1.jpg
ORGANIZER;CN="Good Shepherd":MAILTO:shepherd@gslc.net
END:VEVENT
BEGIN:VEVENT
DTSTART;TZID=America/Denver:20260218T190000
DTEND;TZID=America/Denver:20260218T200000
DTSTAMP:20260424T153551
CREATED:20260210T231957Z
LAST-MODIFIED:20260210T232117Z
UID:10000863-1771441200-1771444800@goodshepherdutah.com
SUMMARY:Ash Wednesday Service
DESCRIPTION:
URL:https://goodshepherdutah.com/event/ash-wednesday-service/
LOCATION:Good Shepherd\, 8575 South 700 East\, Sandy\, Utah\, 84070\, United States
CATEGORIES:Worship Service
ATTACH;FMTTYPE=image/jpeg:https://goodshepherdutah.com/wp-content/uploads/2026/02/Gray-Black-Simple-Ash-Wednesday-Service-Flyer-Presentation.jpeg
ORGANIZER;CN="Good Shepherd":MAILTO:shepherd@gslc.net
END:VEVENT
END:VCALENDAR