BEGIN:VCALENDAR
VERSION:2.0
PRODID:-//Good Shepherd - ECPv6.15.20//NONSGML v1.0//EN
CALSCALE:GREGORIAN
METHOD:PUBLISH
X-WR-CALNAME:Good Shepherd
X-ORIGINAL-URL:https://goodshepherdutah.com
X-WR-CALDESC:Events for Good Shepherd
REFRESH-INTERVAL;VALUE=DURATION:PT1H
X-Robots-Tag:noindex
X-PUBLISHED-TTL:PT1H
BEGIN:VTIMEZONE
TZID:America/Denver
BEGIN:DAYLIGHT
TZOFFSETFROM:-0700
TZOFFSETTO:-0600
TZNAME:MDT
DTSTART:20260308T090000
END:DAYLIGHT
BEGIN:STANDARD
TZOFFSETFROM:-0600
TZOFFSETTO:-0700
TZNAME:MST
DTSTART:20261101T080000
END:STANDARD
BEGIN:DAYLIGHT
TZOFFSETFROM:-0700
TZOFFSETTO:-0600
TZNAME:MDT
DTSTART:20270314T090000
END:DAYLIGHT
BEGIN:STANDARD
TZOFFSETFROM:-0600
TZOFFSETTO:-0700
TZNAME:MST
DTSTART:20271107T080000
END:STANDARD
BEGIN:DAYLIGHT
TZOFFSETFROM:-0700
TZOFFSETTO:-0600
TZNAME:MDT
DTSTART:20280312T090000
END:DAYLIGHT
BEGIN:STANDARD
TZOFFSETFROM:-0600
TZOFFSETTO:-0700
TZNAME:MST
DTSTART:20281105T080000
END:STANDARD
BEGIN:DAYLIGHT
TZOFFSETFROM:-0700
TZOFFSETTO:-0600
TZNAME:MDT
DTSTART:20290311T090000
END:DAYLIGHT
BEGIN:STANDARD
TZOFFSETFROM:-0600
TZOFFSETTO:-0700
TZNAME:MST
DTSTART:20291104T080000
END:STANDARD
END:VTIMEZONE
BEGIN:VEVENT
DTSTART;TZID=America/Denver:20271205T080000
DTEND;TZID=America/Denver:20271205T090000
DTSTAMP:20260425T191416
CREATED:20260413T162145Z
LAST-MODIFIED:20260413T162146Z
UID:10000214-1827993600-1827997200@goodshepherdutah.com
SUMMARY:Sunday Morning Worship
DESCRIPTION:Join us for worship on Sunday mornings at Good Shepherd. Services are held at 8:00 and 9:30 AM. The 8:00 and 9:30 AM services are available online. We would love to have you join us this weekend
URL:https://goodshepherdutah.com/event/sunday-morning-worship-4-3-2-2/2027-12-05/
LOCATION:Good Shepherd\, 8575 South 700 East\, Sandy\, Utah\, 84070\, United States
CATEGORIES:Worship Service
ATTACH;FMTTYPE=image/png:https://goodshepherdutah.com/wp-content/uploads/2024/02/Worship.001.png
ORGANIZER;CN="Good Shepherd":MAILTO:shepherd@gslc.net
END:VEVENT
BEGIN:VEVENT
DTSTART;TZID=America/Denver:20271205T093000
DTEND;TZID=America/Denver:20271205T103000
DTSTAMP:20260425T191416
CREATED:20260318T174716Z
LAST-MODIFIED:20260413T163538Z
UID:10001614-1827999000-1828002600@goodshepherdutah.com
SUMMARY:Sunday Morning Worship
DESCRIPTION:Join us for worship on Sunday mornings at Good Shepherd. Services are held at 8:00 and 9:30 AM. The 8:00 and 9:30 AM services are available online. We would love to have you join us this weekend
URL:https://goodshepherdutah.com/event/sunday-morning-worship/2027-12-05/
LOCATION:Good Shepherd\, 8575 South 700 East\, Sandy\, Utah\, 84070\, United States
CATEGORIES:Worship Service
ATTACH;FMTTYPE=image/png:https://goodshepherdutah.com/wp-content/uploads/2024/02/Worship.001.png
ORGANIZER;CN="Good Shepherd":MAILTO:shepherd@gslc.net
END:VEVENT
BEGIN:VEVENT
DTSTART;TZID=America/Denver:20271212T080000
DTEND;TZID=America/Denver:20271212T090000
DTSTAMP:20260425T191417
CREATED:20260413T162145Z
LAST-MODIFIED:20260413T162146Z
UID:10000215-1828598400-1828602000@goodshepherdutah.com
SUMMARY:Sunday Morning Worship
DESCRIPTION:Join us for worship on Sunday mornings at Good Shepherd. Services are held at 8:00 and 9:30 AM. The 8:00 and 9:30 AM services are available online. We would love to have you join us this weekend
URL:https://goodshepherdutah.com/event/sunday-morning-worship-4-3-2-2/2027-12-12/
LOCATION:Good Shepherd\, 8575 South 700 East\, Sandy\, Utah\, 84070\, United States
CATEGORIES:Worship Service
ATTACH;FMTTYPE=image/png:https://goodshepherdutah.com/wp-content/uploads/2024/02/Worship.001.png
ORGANIZER;CN="Good Shepherd":MAILTO:shepherd@gslc.net
END:VEVENT
BEGIN:VEVENT
DTSTART;TZID=America/Denver:20271212T093000
DTEND;TZID=America/Denver:20271212T103000
DTSTAMP:20260425T191417
CREATED:20260318T174716Z
LAST-MODIFIED:20260413T163538Z
UID:10001615-1828603800-1828607400@goodshepherdutah.com
SUMMARY:Sunday Morning Worship
DESCRIPTION:Join us for worship on Sunday mornings at Good Shepherd. Services are held at 8:00 and 9:30 AM. The 8:00 and 9:30 AM services are available online. We would love to have you join us this weekend
URL:https://goodshepherdutah.com/event/sunday-morning-worship/2027-12-12/
LOCATION:Good Shepherd\, 8575 South 700 East\, Sandy\, Utah\, 84070\, United States
CATEGORIES:Worship Service
ATTACH;FMTTYPE=image/png:https://goodshepherdutah.com/wp-content/uploads/2024/02/Worship.001.png
ORGANIZER;CN="Good Shepherd":MAILTO:shepherd@gslc.net
END:VEVENT
BEGIN:VEVENT
DTSTART;TZID=America/Denver:20271219T080000
DTEND;TZID=America/Denver:20271219T090000
DTSTAMP:20260425T191417
CREATED:20260413T162145Z
LAST-MODIFIED:20260413T162146Z
UID:10000216-1829203200-1829206800@goodshepherdutah.com
SUMMARY:Sunday Morning Worship
DESCRIPTION:Join us for worship on Sunday mornings at Good Shepherd. Services are held at 8:00 and 9:30 AM. The 8:00 and 9:30 AM services are available online. We would love to have you join us this weekend
URL:https://goodshepherdutah.com/event/sunday-morning-worship-4-3-2-2/2027-12-19/
LOCATION:Good Shepherd\, 8575 South 700 East\, Sandy\, Utah\, 84070\, United States
CATEGORIES:Worship Service
ATTACH;FMTTYPE=image/png:https://goodshepherdutah.com/wp-content/uploads/2024/02/Worship.001.png
ORGANIZER;CN="Good Shepherd":MAILTO:shepherd@gslc.net
END:VEVENT
BEGIN:VEVENT
DTSTART;TZID=America/Denver:20271219T093000
DTEND;TZID=America/Denver:20271219T103000
DTSTAMP:20260425T191417
CREATED:20260318T174716Z
LAST-MODIFIED:20260413T163538Z
UID:10001616-1829208600-1829212200@goodshepherdutah.com
SUMMARY:Sunday Morning Worship
DESCRIPTION:Join us for worship on Sunday mornings at Good Shepherd. Services are held at 8:00 and 9:30 AM. The 8:00 and 9:30 AM services are available online. We would love to have you join us this weekend
URL:https://goodshepherdutah.com/event/sunday-morning-worship/2027-12-19/
LOCATION:Good Shepherd\, 8575 South 700 East\, Sandy\, Utah\, 84070\, United States
CATEGORIES:Worship Service
ATTACH;FMTTYPE=image/png:https://goodshepherdutah.com/wp-content/uploads/2024/02/Worship.001.png
ORGANIZER;CN="Good Shepherd":MAILTO:shepherd@gslc.net
END:VEVENT
BEGIN:VEVENT
DTSTART;TZID=America/Denver:20271226T080000
DTEND;TZID=America/Denver:20271226T090000
DTSTAMP:20260425T191417
CREATED:20260413T162145Z
LAST-MODIFIED:20260413T162146Z
UID:10000217-1829808000-1829811600@goodshepherdutah.com
SUMMARY:Sunday Morning Worship
DESCRIPTION:Join us for worship on Sunday mornings at Good Shepherd. Services are held at 8:00 and 9:30 AM. The 8:00 and 9:30 AM services are available online. We would love to have you join us this weekend
URL:https://goodshepherdutah.com/event/sunday-morning-worship-4-3-2-2/2027-12-26/
LOCATION:Good Shepherd\, 8575 South 700 East\, Sandy\, Utah\, 84070\, United States
CATEGORIES:Worship Service
ATTACH;FMTTYPE=image/png:https://goodshepherdutah.com/wp-content/uploads/2024/02/Worship.001.png
ORGANIZER;CN="Good Shepherd":MAILTO:shepherd@gslc.net
END:VEVENT
BEGIN:VEVENT
DTSTART;TZID=America/Denver:20271226T093000
DTEND;TZID=America/Denver:20271226T103000
DTSTAMP:20260425T191417
CREATED:20260318T174716Z
LAST-MODIFIED:20260413T163538Z
UID:10001617-1829813400-1829817000@goodshepherdutah.com
SUMMARY:Sunday Morning Worship
DESCRIPTION:Join us for worship on Sunday mornings at Good Shepherd. Services are held at 8:00 and 9:30 AM. The 8:00 and 9:30 AM services are available online. We would love to have you join us this weekend
URL:https://goodshepherdutah.com/event/sunday-morning-worship/2027-12-26/
LOCATION:Good Shepherd\, 8575 South 700 East\, Sandy\, Utah\, 84070\, United States
CATEGORIES:Worship Service
ATTACH;FMTTYPE=image/png:https://goodshepherdutah.com/wp-content/uploads/2024/02/Worship.001.png
ORGANIZER;CN="Good Shepherd":MAILTO:shepherd@gslc.net
END:VEVENT
BEGIN:VEVENT
DTSTART;TZID=America/Denver:20280102T080000
DTEND;TZID=America/Denver:20280102T090000
DTSTAMP:20260425T191417
CREATED:20260413T162145Z
LAST-MODIFIED:20260413T162146Z
UID:10000218-1830412800-1830416400@goodshepherdutah.com
SUMMARY:Sunday Morning Worship
DESCRIPTION:Join us for worship on Sunday mornings at Good Shepherd. Services are held at 8:00 and 9:30 AM. The 8:00 and 9:30 AM services are available online. We would love to have you join us this weekend
URL:https://goodshepherdutah.com/event/sunday-morning-worship-4-3-2-2/2028-01-02/
LOCATION:Good Shepherd\, 8575 South 700 East\, Sandy\, Utah\, 84070\, United States
CATEGORIES:Worship Service
ATTACH;FMTTYPE=image/png:https://goodshepherdutah.com/wp-content/uploads/2024/02/Worship.001.png
ORGANIZER;CN="Good Shepherd":MAILTO:shepherd@gslc.net
END:VEVENT
BEGIN:VEVENT
DTSTART;TZID=America/Denver:20280102T093000
DTEND;TZID=America/Denver:20280102T103000
DTSTAMP:20260425T191417
CREATED:20260318T174716Z
LAST-MODIFIED:20260413T163538Z
UID:10001618-1830418200-1830421800@goodshepherdutah.com
SUMMARY:Sunday Morning Worship
DESCRIPTION:Join us for worship on Sunday mornings at Good Shepherd. Services are held at 8:00 and 9:30 AM. The 8:00 and 9:30 AM services are available online. We would love to have you join us this weekend
URL:https://goodshepherdutah.com/event/sunday-morning-worship/2028-01-02/
LOCATION:Good Shepherd\, 8575 South 700 East\, Sandy\, Utah\, 84070\, United States
CATEGORIES:Worship Service
ATTACH;FMTTYPE=image/png:https://goodshepherdutah.com/wp-content/uploads/2024/02/Worship.001.png
ORGANIZER;CN="Good Shepherd":MAILTO:shepherd@gslc.net
END:VEVENT
BEGIN:VEVENT
DTSTART;TZID=America/Denver:20280109T080000
DTEND;TZID=America/Denver:20280109T090000
DTSTAMP:20260425T191417
CREATED:20260413T162145Z
LAST-MODIFIED:20260413T162146Z
UID:10000219-1831017600-1831021200@goodshepherdutah.com
SUMMARY:Sunday Morning Worship
DESCRIPTION:Join us for worship on Sunday mornings at Good Shepherd. Services are held at 8:00 and 9:30 AM. The 8:00 and 9:30 AM services are available online. We would love to have you join us this weekend
URL:https://goodshepherdutah.com/event/sunday-morning-worship-4-3-2-2/2028-01-09/
LOCATION:Good Shepherd\, 8575 South 700 East\, Sandy\, Utah\, 84070\, United States
CATEGORIES:Worship Service
ATTACH;FMTTYPE=image/png:https://goodshepherdutah.com/wp-content/uploads/2024/02/Worship.001.png
ORGANIZER;CN="Good Shepherd":MAILTO:shepherd@gslc.net
END:VEVENT
BEGIN:VEVENT
DTSTART;TZID=America/Denver:20280109T093000
DTEND;TZID=America/Denver:20280109T103000
DTSTAMP:20260425T191417
CREATED:20260318T174716Z
LAST-MODIFIED:20260413T163538Z
UID:10001619-1831023000-1831026600@goodshepherdutah.com
SUMMARY:Sunday Morning Worship
DESCRIPTION:Join us for worship on Sunday mornings at Good Shepherd. Services are held at 8:00 and 9:30 AM. The 8:00 and 9:30 AM services are available online. We would love to have you join us this weekend
URL:https://goodshepherdutah.com/event/sunday-morning-worship/2028-01-09/
LOCATION:Good Shepherd\, 8575 South 700 East\, Sandy\, Utah\, 84070\, United States
CATEGORIES:Worship Service
ATTACH;FMTTYPE=image/png:https://goodshepherdutah.com/wp-content/uploads/2024/02/Worship.001.png
ORGANIZER;CN="Good Shepherd":MAILTO:shepherd@gslc.net
END:VEVENT
BEGIN:VEVENT
DTSTART;TZID=America/Denver:20280116T080000
DTEND;TZID=America/Denver:20280116T090000
DTSTAMP:20260425T191417
CREATED:20260413T162145Z
LAST-MODIFIED:20260413T162146Z
UID:10000220-1831622400-1831626000@goodshepherdutah.com
SUMMARY:Sunday Morning Worship
DESCRIPTION:Join us for worship on Sunday mornings at Good Shepherd. Services are held at 8:00 and 9:30 AM. The 8:00 and 9:30 AM services are available online. We would love to have you join us this weekend
URL:https://goodshepherdutah.com/event/sunday-morning-worship-4-3-2-2/2028-01-16/
LOCATION:Good Shepherd\, 8575 South 700 East\, Sandy\, Utah\, 84070\, United States
CATEGORIES:Worship Service
ATTACH;FMTTYPE=image/png:https://goodshepherdutah.com/wp-content/uploads/2024/02/Worship.001.png
ORGANIZER;CN="Good Shepherd":MAILTO:shepherd@gslc.net
END:VEVENT
BEGIN:VEVENT
DTSTART;TZID=America/Denver:20280116T093000
DTEND;TZID=America/Denver:20280116T103000
DTSTAMP:20260425T191417
CREATED:20260318T174716Z
LAST-MODIFIED:20260413T163538Z
UID:10001620-1831627800-1831631400@goodshepherdutah.com
SUMMARY:Sunday Morning Worship
DESCRIPTION:Join us for worship on Sunday mornings at Good Shepherd. Services are held at 8:00 and 9:30 AM. The 8:00 and 9:30 AM services are available online. We would love to have you join us this weekend
URL:https://goodshepherdutah.com/event/sunday-morning-worship/2028-01-16/
LOCATION:Good Shepherd\, 8575 South 700 East\, Sandy\, Utah\, 84070\, United States
CATEGORIES:Worship Service
ATTACH;FMTTYPE=image/png:https://goodshepherdutah.com/wp-content/uploads/2024/02/Worship.001.png
ORGANIZER;CN="Good Shepherd":MAILTO:shepherd@gslc.net
END:VEVENT
BEGIN:VEVENT
DTSTART;TZID=America/Denver:20280123T080000
DTEND;TZID=America/Denver:20280123T090000
DTSTAMP:20260425T191417
CREATED:20260413T162145Z
LAST-MODIFIED:20260413T162146Z
UID:10000221-1832227200-1832230800@goodshepherdutah.com
SUMMARY:Sunday Morning Worship
DESCRIPTION:Join us for worship on Sunday mornings at Good Shepherd. Services are held at 8:00 and 9:30 AM. The 8:00 and 9:30 AM services are available online. We would love to have you join us this weekend
URL:https://goodshepherdutah.com/event/sunday-morning-worship-4-3-2-2/2028-01-23/
LOCATION:Good Shepherd\, 8575 South 700 East\, Sandy\, Utah\, 84070\, United States
CATEGORIES:Worship Service
ATTACH;FMTTYPE=image/png:https://goodshepherdutah.com/wp-content/uploads/2024/02/Worship.001.png
ORGANIZER;CN="Good Shepherd":MAILTO:shepherd@gslc.net
END:VEVENT
BEGIN:VEVENT
DTSTART;TZID=America/Denver:20280123T093000
DTEND;TZID=America/Denver:20280123T103000
DTSTAMP:20260425T191417
CREATED:20260318T174716Z
LAST-MODIFIED:20260413T163538Z
UID:10001621-1832232600-1832236200@goodshepherdutah.com
SUMMARY:Sunday Morning Worship
DESCRIPTION:Join us for worship on Sunday mornings at Good Shepherd. Services are held at 8:00 and 9:30 AM. The 8:00 and 9:30 AM services are available online. We would love to have you join us this weekend
URL:https://goodshepherdutah.com/event/sunday-morning-worship/2028-01-23/
LOCATION:Good Shepherd\, 8575 South 700 East\, Sandy\, Utah\, 84070\, United States
CATEGORIES:Worship Service
ATTACH;FMTTYPE=image/png:https://goodshepherdutah.com/wp-content/uploads/2024/02/Worship.001.png
ORGANIZER;CN="Good Shepherd":MAILTO:shepherd@gslc.net
END:VEVENT
BEGIN:VEVENT
DTSTART;TZID=America/Denver:20280130T080000
DTEND;TZID=America/Denver:20280130T090000
DTSTAMP:20260425T191417
CREATED:20260413T162145Z
LAST-MODIFIED:20260413T162146Z
UID:10000222-1832832000-1832835600@goodshepherdutah.com
SUMMARY:Sunday Morning Worship
DESCRIPTION:Join us for worship on Sunday mornings at Good Shepherd. Services are held at 8:00 and 9:30 AM. The 8:00 and 9:30 AM services are available online. We would love to have you join us this weekend
URL:https://goodshepherdutah.com/event/sunday-morning-worship-4-3-2-2/2028-01-30/
LOCATION:Good Shepherd\, 8575 South 700 East\, Sandy\, Utah\, 84070\, United States
CATEGORIES:Worship Service
ATTACH;FMTTYPE=image/png:https://goodshepherdutah.com/wp-content/uploads/2024/02/Worship.001.png
ORGANIZER;CN="Good Shepherd":MAILTO:shepherd@gslc.net
END:VEVENT
BEGIN:VEVENT
DTSTART;TZID=America/Denver:20280130T093000
DTEND;TZID=America/Denver:20280130T103000
DTSTAMP:20260425T191417
CREATED:20260318T174716Z
LAST-MODIFIED:20260413T163538Z
UID:10001622-1832837400-1832841000@goodshepherdutah.com
SUMMARY:Sunday Morning Worship
DESCRIPTION:Join us for worship on Sunday mornings at Good Shepherd. Services are held at 8:00 and 9:30 AM. The 8:00 and 9:30 AM services are available online. We would love to have you join us this weekend
URL:https://goodshepherdutah.com/event/sunday-morning-worship/2028-01-30/
LOCATION:Good Shepherd\, 8575 South 700 East\, Sandy\, Utah\, 84070\, United States
CATEGORIES:Worship Service
ATTACH;FMTTYPE=image/png:https://goodshepherdutah.com/wp-content/uploads/2024/02/Worship.001.png
ORGANIZER;CN="Good Shepherd":MAILTO:shepherd@gslc.net
END:VEVENT
BEGIN:VEVENT
DTSTART;TZID=America/Denver:20280206T080000
DTEND;TZID=America/Denver:20280206T090000
DTSTAMP:20260425T191417
CREATED:20260413T162145Z
LAST-MODIFIED:20260413T162146Z
UID:10000223-1833436800-1833440400@goodshepherdutah.com
SUMMARY:Sunday Morning Worship
DESCRIPTION:Join us for worship on Sunday mornings at Good Shepherd. Services are held at 8:00 and 9:30 AM. The 8:00 and 9:30 AM services are available online. We would love to have you join us this weekend
URL:https://goodshepherdutah.com/event/sunday-morning-worship-4-3-2-2/2028-02-06/
LOCATION:Good Shepherd\, 8575 South 700 East\, Sandy\, Utah\, 84070\, United States
CATEGORIES:Worship Service
ATTACH;FMTTYPE=image/png:https://goodshepherdutah.com/wp-content/uploads/2024/02/Worship.001.png
ORGANIZER;CN="Good Shepherd":MAILTO:shepherd@gslc.net
END:VEVENT
BEGIN:VEVENT
DTSTART;TZID=America/Denver:20280206T093000
DTEND;TZID=America/Denver:20280206T103000
DTSTAMP:20260425T191417
CREATED:20260318T174716Z
LAST-MODIFIED:20260413T163538Z
UID:10001623-1833442200-1833445800@goodshepherdutah.com
SUMMARY:Sunday Morning Worship
DESCRIPTION:Join us for worship on Sunday mornings at Good Shepherd. Services are held at 8:00 and 9:30 AM. The 8:00 and 9:30 AM services are available online. We would love to have you join us this weekend
URL:https://goodshepherdutah.com/event/sunday-morning-worship/2028-02-06/
LOCATION:Good Shepherd\, 8575 South 700 East\, Sandy\, Utah\, 84070\, United States
CATEGORIES:Worship Service
ATTACH;FMTTYPE=image/png:https://goodshepherdutah.com/wp-content/uploads/2024/02/Worship.001.png
ORGANIZER;CN="Good Shepherd":MAILTO:shepherd@gslc.net
END:VEVENT
BEGIN:VEVENT
DTSTART;TZID=America/Denver:20280213T080000
DTEND;TZID=America/Denver:20280213T090000
DTSTAMP:20260425T191417
CREATED:20260413T162145Z
LAST-MODIFIED:20260413T162146Z
UID:10000224-1834041600-1834045200@goodshepherdutah.com
SUMMARY:Sunday Morning Worship
DESCRIPTION:Join us for worship on Sunday mornings at Good Shepherd. Services are held at 8:00 and 9:30 AM. The 8:00 and 9:30 AM services are available online. We would love to have you join us this weekend
URL:https://goodshepherdutah.com/event/sunday-morning-worship-4-3-2-2/2028-02-13/
LOCATION:Good Shepherd\, 8575 South 700 East\, Sandy\, Utah\, 84070\, United States
CATEGORIES:Worship Service
ATTACH;FMTTYPE=image/png:https://goodshepherdutah.com/wp-content/uploads/2024/02/Worship.001.png
ORGANIZER;CN="Good Shepherd":MAILTO:shepherd@gslc.net
END:VEVENT
BEGIN:VEVENT
DTSTART;TZID=America/Denver:20280213T093000
DTEND;TZID=America/Denver:20280213T103000
DTSTAMP:20260425T191417
CREATED:20260318T174716Z
LAST-MODIFIED:20260413T163538Z
UID:10001624-1834047000-1834050600@goodshepherdutah.com
SUMMARY:Sunday Morning Worship
DESCRIPTION:Join us for worship on Sunday mornings at Good Shepherd. Services are held at 8:00 and 9:30 AM. The 8:00 and 9:30 AM services are available online. We would love to have you join us this weekend
URL:https://goodshepherdutah.com/event/sunday-morning-worship/2028-02-13/
LOCATION:Good Shepherd\, 8575 South 700 East\, Sandy\, Utah\, 84070\, United States
CATEGORIES:Worship Service
ATTACH;FMTTYPE=image/png:https://goodshepherdutah.com/wp-content/uploads/2024/02/Worship.001.png
ORGANIZER;CN="Good Shepherd":MAILTO:shepherd@gslc.net
END:VEVENT
BEGIN:VEVENT
DTSTART;TZID=America/Denver:20280220T080000
DTEND;TZID=America/Denver:20280220T090000
DTSTAMP:20260425T191417
CREATED:20260413T162145Z
LAST-MODIFIED:20260413T162146Z
UID:10000225-1834646400-1834650000@goodshepherdutah.com
SUMMARY:Sunday Morning Worship
DESCRIPTION:Join us for worship on Sunday mornings at Good Shepherd. Services are held at 8:00 and 9:30 AM. The 8:00 and 9:30 AM services are available online. We would love to have you join us this weekend
URL:https://goodshepherdutah.com/event/sunday-morning-worship-4-3-2-2/2028-02-20/
LOCATION:Good Shepherd\, 8575 South 700 East\, Sandy\, Utah\, 84070\, United States
CATEGORIES:Worship Service
ATTACH;FMTTYPE=image/png:https://goodshepherdutah.com/wp-content/uploads/2024/02/Worship.001.png
ORGANIZER;CN="Good Shepherd":MAILTO:shepherd@gslc.net
END:VEVENT
BEGIN:VEVENT
DTSTART;TZID=America/Denver:20280220T093000
DTEND;TZID=America/Denver:20280220T103000
DTSTAMP:20260425T191417
CREATED:20260318T174716Z
LAST-MODIFIED:20260413T163538Z
UID:10001625-1834651800-1834655400@goodshepherdutah.com
SUMMARY:Sunday Morning Worship
DESCRIPTION:Join us for worship on Sunday mornings at Good Shepherd. Services are held at 8:00 and 9:30 AM. The 8:00 and 9:30 AM services are available online. We would love to have you join us this weekend
URL:https://goodshepherdutah.com/event/sunday-morning-worship/2028-02-20/
LOCATION:Good Shepherd\, 8575 South 700 East\, Sandy\, Utah\, 84070\, United States
CATEGORIES:Worship Service
ATTACH;FMTTYPE=image/png:https://goodshepherdutah.com/wp-content/uploads/2024/02/Worship.001.png
ORGANIZER;CN="Good Shepherd":MAILTO:shepherd@gslc.net
END:VEVENT
BEGIN:VEVENT
DTSTART;TZID=America/Denver:20280227T080000
DTEND;TZID=America/Denver:20280227T090000
DTSTAMP:20260425T191417
CREATED:20260413T162145Z
LAST-MODIFIED:20260413T162146Z
UID:10000226-1835251200-1835254800@goodshepherdutah.com
SUMMARY:Sunday Morning Worship
DESCRIPTION:Join us for worship on Sunday mornings at Good Shepherd. Services are held at 8:00 and 9:30 AM. The 8:00 and 9:30 AM services are available online. We would love to have you join us this weekend
URL:https://goodshepherdutah.com/event/sunday-morning-worship-4-3-2-2/2028-02-27/
LOCATION:Good Shepherd\, 8575 South 700 East\, Sandy\, Utah\, 84070\, United States
CATEGORIES:Worship Service
ATTACH;FMTTYPE=image/png:https://goodshepherdutah.com/wp-content/uploads/2024/02/Worship.001.png
ORGANIZER;CN="Good Shepherd":MAILTO:shepherd@gslc.net
END:VEVENT
BEGIN:VEVENT
DTSTART;TZID=America/Denver:20280227T093000
DTEND;TZID=America/Denver:20280227T103000
DTSTAMP:20260425T191417
CREATED:20260318T174716Z
LAST-MODIFIED:20260413T163538Z
UID:10001626-1835256600-1835260200@goodshepherdutah.com
SUMMARY:Sunday Morning Worship
DESCRIPTION:Join us for worship on Sunday mornings at Good Shepherd. Services are held at 8:00 and 9:30 AM. The 8:00 and 9:30 AM services are available online. We would love to have you join us this weekend
URL:https://goodshepherdutah.com/event/sunday-morning-worship/2028-02-27/
LOCATION:Good Shepherd\, 8575 South 700 East\, Sandy\, Utah\, 84070\, United States
CATEGORIES:Worship Service
ATTACH;FMTTYPE=image/png:https://goodshepherdutah.com/wp-content/uploads/2024/02/Worship.001.png
ORGANIZER;CN="Good Shepherd":MAILTO:shepherd@gslc.net
END:VEVENT
BEGIN:VEVENT
DTSTART;TZID=America/Denver:20280305T080000
DTEND;TZID=America/Denver:20280305T090000
DTSTAMP:20260425T191417
CREATED:20260413T162145Z
LAST-MODIFIED:20260413T162146Z
UID:10000227-1835856000-1835859600@goodshepherdutah.com
SUMMARY:Sunday Morning Worship
DESCRIPTION:Join us for worship on Sunday mornings at Good Shepherd. Services are held at 8:00 and 9:30 AM. The 8:00 and 9:30 AM services are available online. We would love to have you join us this weekend
URL:https://goodshepherdutah.com/event/sunday-morning-worship-4-3-2-2/2028-03-05/
LOCATION:Good Shepherd\, 8575 South 700 East\, Sandy\, Utah\, 84070\, United States
CATEGORIES:Worship Service
ATTACH;FMTTYPE=image/png:https://goodshepherdutah.com/wp-content/uploads/2024/02/Worship.001.png
ORGANIZER;CN="Good Shepherd":MAILTO:shepherd@gslc.net
END:VEVENT
BEGIN:VEVENT
DTSTART;TZID=America/Denver:20280305T093000
DTEND;TZID=America/Denver:20280305T103000
DTSTAMP:20260425T191417
CREATED:20260318T174716Z
LAST-MODIFIED:20260413T163538Z
UID:10001627-1835861400-1835865000@goodshepherdutah.com
SUMMARY:Sunday Morning Worship
DESCRIPTION:Join us for worship on Sunday mornings at Good Shepherd. Services are held at 8:00 and 9:30 AM. The 8:00 and 9:30 AM services are available online. We would love to have you join us this weekend
URL:https://goodshepherdutah.com/event/sunday-morning-worship/2028-03-05/
LOCATION:Good Shepherd\, 8575 South 700 East\, Sandy\, Utah\, 84070\, United States
CATEGORIES:Worship Service
ATTACH;FMTTYPE=image/png:https://goodshepherdutah.com/wp-content/uploads/2024/02/Worship.001.png
ORGANIZER;CN="Good Shepherd":MAILTO:shepherd@gslc.net
END:VEVENT
BEGIN:VEVENT
DTSTART;TZID=America/Denver:20280312T080000
DTEND;TZID=America/Denver:20280312T090000
DTSTAMP:20260425T191417
CREATED:20260413T162145Z
LAST-MODIFIED:20260413T162146Z
UID:10000228-1836460800-1836464400@goodshepherdutah.com
SUMMARY:Sunday Morning Worship
DESCRIPTION:Join us for worship on Sunday mornings at Good Shepherd. Services are held at 8:00 and 9:30 AM. The 8:00 and 9:30 AM services are available online. We would love to have you join us this weekend
URL:https://goodshepherdutah.com/event/sunday-morning-worship-4-3-2-2/2028-03-12/
LOCATION:Good Shepherd\, 8575 South 700 East\, Sandy\, Utah\, 84070\, United States
CATEGORIES:Worship Service
ATTACH;FMTTYPE=image/png:https://goodshepherdutah.com/wp-content/uploads/2024/02/Worship.001.png
ORGANIZER;CN="Good Shepherd":MAILTO:shepherd@gslc.net
END:VEVENT
BEGIN:VEVENT
DTSTART;TZID=America/Denver:20280312T093000
DTEND;TZID=America/Denver:20280312T103000
DTSTAMP:20260425T191417
CREATED:20260318T174716Z
LAST-MODIFIED:20260413T163538Z
UID:10001628-1836466200-1836469800@goodshepherdutah.com
SUMMARY:Sunday Morning Worship
DESCRIPTION:Join us for worship on Sunday mornings at Good Shepherd. Services are held at 8:00 and 9:30 AM. The 8:00 and 9:30 AM services are available online. We would love to have you join us this weekend
URL:https://goodshepherdutah.com/event/sunday-morning-worship/2028-03-12/
LOCATION:Good Shepherd\, 8575 South 700 East\, Sandy\, Utah\, 84070\, United States
CATEGORIES:Worship Service
ATTACH;FMTTYPE=image/png:https://goodshepherdutah.com/wp-content/uploads/2024/02/Worship.001.png
ORGANIZER;CN="Good Shepherd":MAILTO:shepherd@gslc.net
END:VEVENT
END:VCALENDAR