BEGIN:VCALENDAR
VERSION:2.0
PRODID:-//Good Shepherd - ECPv6.15.20//NONSGML v1.0//EN
CALSCALE:GREGORIAN
METHOD:PUBLISH
X-ORIGINAL-URL:https://goodshepherdutah.com
X-WR-CALDESC:Events for Good Shepherd
REFRESH-INTERVAL;VALUE=DURATION:PT1H
X-Robots-Tag:noindex
X-PUBLISHED-TTL:PT1H
BEGIN:VTIMEZONE
TZID:America/Denver
BEGIN:DAYLIGHT
TZOFFSETFROM:-0700
TZOFFSETTO:-0600
TZNAME:MDT
DTSTART:20250309T090000
END:DAYLIGHT
BEGIN:STANDARD
TZOFFSETFROM:-0600
TZOFFSETTO:-0700
TZNAME:MST
DTSTART:20251102T080000
END:STANDARD
BEGIN:DAYLIGHT
TZOFFSETFROM:-0700
TZOFFSETTO:-0600
TZNAME:MDT
DTSTART:20260308T090000
END:DAYLIGHT
BEGIN:STANDARD
TZOFFSETFROM:-0600
TZOFFSETTO:-0700
TZNAME:MST
DTSTART:20261101T080000
END:STANDARD
BEGIN:DAYLIGHT
TZOFFSETFROM:-0700
TZOFFSETTO:-0600
TZNAME:MDT
DTSTART:20270314T090000
END:DAYLIGHT
BEGIN:STANDARD
TZOFFSETFROM:-0600
TZOFFSETTO:-0700
TZNAME:MST
DTSTART:20271107T080000
END:STANDARD
BEGIN:DAYLIGHT
TZOFFSETFROM:-0700
TZOFFSETTO:-0600
TZNAME:MDT
DTSTART:20280312T090000
END:DAYLIGHT
BEGIN:STANDARD
TZOFFSETFROM:-0600
TZOFFSETTO:-0700
TZNAME:MST
DTSTART:20281105T080000
END:STANDARD
END:VTIMEZONE
BEGIN:VEVENT
DTSTART;TZID=America/Denver:20260927T080000
DTEND;TZID=America/Denver:20260927T090000
DTSTAMP:20260425T075406
CREATED:20260413T162145Z
LAST-MODIFIED:20260413T162146Z
UID:10000152-1790496000-1790499600@goodshepherdutah.com
SUMMARY:Sunday Morning Worship
DESCRIPTION:Join us for worship on Sunday mornings at Good Shepherd. Services are held at 8:00 and 9:30 AM. The 8:00 and 9:30 AM services are available online. We would love to have you join us this weekend
URL:https://goodshepherdutah.com/event/sunday-morning-worship-4-3-2-2/2026-09-27/
LOCATION:Good Shepherd\, 8575 South 700 East\, Sandy\, Utah\, 84070\, United States
CATEGORIES:Worship Service
ATTACH;FMTTYPE=image/png:https://goodshepherdutah.com/wp-content/uploads/2024/02/Worship.001.png
ORGANIZER;CN="Good Shepherd":MAILTO:shepherd@gslc.net
END:VEVENT
BEGIN:VEVENT
DTSTART;TZID=America/Denver:20260927T093000
DTEND;TZID=America/Denver:20260927T103000
DTSTAMP:20260425T075406
CREATED:20260318T174716Z
LAST-MODIFIED:20260413T163538Z
UID:10001552-1790501400-1790505000@goodshepherdutah.com
SUMMARY:Sunday Morning Worship
DESCRIPTION:Join us for worship on Sunday mornings at Good Shepherd. Services are held at 8:00 and 9:30 AM. The 8:00 and 9:30 AM services are available online. We would love to have you join us this weekend
URL:https://goodshepherdutah.com/event/sunday-morning-worship/2026-09-27/
LOCATION:Good Shepherd\, 8575 South 700 East\, Sandy\, Utah\, 84070\, United States
CATEGORIES:Worship Service
ATTACH;FMTTYPE=image/png:https://goodshepherdutah.com/wp-content/uploads/2024/02/Worship.001.png
ORGANIZER;CN="Good Shepherd":MAILTO:shepherd@gslc.net
END:VEVENT
BEGIN:VEVENT
DTSTART;TZID=America/Denver:20261004T080000
DTEND;TZID=America/Denver:20261004T090000
DTSTAMP:20260425T075406
CREATED:20260413T162145Z
LAST-MODIFIED:20260413T162146Z
UID:10000153-1791100800-1791104400@goodshepherdutah.com
SUMMARY:Sunday Morning Worship
DESCRIPTION:Join us for worship on Sunday mornings at Good Shepherd. Services are held at 8:00 and 9:30 AM. The 8:00 and 9:30 AM services are available online. We would love to have you join us this weekend
URL:https://goodshepherdutah.com/event/sunday-morning-worship-4-3-2-2/2026-10-04/
LOCATION:Good Shepherd\, 8575 South 700 East\, Sandy\, Utah\, 84070\, United States
CATEGORIES:Worship Service
ATTACH;FMTTYPE=image/png:https://goodshepherdutah.com/wp-content/uploads/2024/02/Worship.001.png
ORGANIZER;CN="Good Shepherd":MAILTO:shepherd@gslc.net
END:VEVENT
BEGIN:VEVENT
DTSTART;TZID=America/Denver:20261004T093000
DTEND;TZID=America/Denver:20261004T103000
DTSTAMP:20260425T075406
CREATED:20260318T174716Z
LAST-MODIFIED:20260413T163538Z
UID:10001553-1791106200-1791109800@goodshepherdutah.com
SUMMARY:Sunday Morning Worship
DESCRIPTION:Join us for worship on Sunday mornings at Good Shepherd. Services are held at 8:00 and 9:30 AM. The 8:00 and 9:30 AM services are available online. We would love to have you join us this weekend
URL:https://goodshepherdutah.com/event/sunday-morning-worship/2026-10-04/
LOCATION:Good Shepherd\, 8575 South 700 East\, Sandy\, Utah\, 84070\, United States
CATEGORIES:Worship Service
ATTACH;FMTTYPE=image/png:https://goodshepherdutah.com/wp-content/uploads/2024/02/Worship.001.png
ORGANIZER;CN="Good Shepherd":MAILTO:shepherd@gslc.net
END:VEVENT
BEGIN:VEVENT
DTSTART;TZID=America/Denver:20261011T080000
DTEND;TZID=America/Denver:20261011T090000
DTSTAMP:20260425T075406
CREATED:20260413T162145Z
LAST-MODIFIED:20260413T162146Z
UID:10000154-1791705600-1791709200@goodshepherdutah.com
SUMMARY:Sunday Morning Worship
DESCRIPTION:Join us for worship on Sunday mornings at Good Shepherd. Services are held at 8:00 and 9:30 AM. The 8:00 and 9:30 AM services are available online. We would love to have you join us this weekend
URL:https://goodshepherdutah.com/event/sunday-morning-worship-4-3-2-2/2026-10-11/
LOCATION:Good Shepherd\, 8575 South 700 East\, Sandy\, Utah\, 84070\, United States
CATEGORIES:Worship Service
ATTACH;FMTTYPE=image/png:https://goodshepherdutah.com/wp-content/uploads/2024/02/Worship.001.png
ORGANIZER;CN="Good Shepherd":MAILTO:shepherd@gslc.net
END:VEVENT
BEGIN:VEVENT
DTSTART;TZID=America/Denver:20261011T093000
DTEND;TZID=America/Denver:20261011T103000
DTSTAMP:20260425T075406
CREATED:20260318T174716Z
LAST-MODIFIED:20260413T163538Z
UID:10001554-1791711000-1791714600@goodshepherdutah.com
SUMMARY:Sunday Morning Worship
DESCRIPTION:Join us for worship on Sunday mornings at Good Shepherd. Services are held at 8:00 and 9:30 AM. The 8:00 and 9:30 AM services are available online. We would love to have you join us this weekend
URL:https://goodshepherdutah.com/event/sunday-morning-worship/2026-10-11/
LOCATION:Good Shepherd\, 8575 South 700 East\, Sandy\, Utah\, 84070\, United States
CATEGORIES:Worship Service
ATTACH;FMTTYPE=image/png:https://goodshepherdutah.com/wp-content/uploads/2024/02/Worship.001.png
ORGANIZER;CN="Good Shepherd":MAILTO:shepherd@gslc.net
END:VEVENT
BEGIN:VEVENT
DTSTART;TZID=America/Denver:20261018T080000
DTEND;TZID=America/Denver:20261018T090000
DTSTAMP:20260425T075406
CREATED:20260413T162145Z
LAST-MODIFIED:20260413T162146Z
UID:10000155-1792310400-1792314000@goodshepherdutah.com
SUMMARY:Sunday Morning Worship
DESCRIPTION:Join us for worship on Sunday mornings at Good Shepherd. Services are held at 8:00 and 9:30 AM. The 8:00 and 9:30 AM services are available online. We would love to have you join us this weekend
URL:https://goodshepherdutah.com/event/sunday-morning-worship-4-3-2-2/2026-10-18/
LOCATION:Good Shepherd\, 8575 South 700 East\, Sandy\, Utah\, 84070\, United States
CATEGORIES:Worship Service
ATTACH;FMTTYPE=image/png:https://goodshepherdutah.com/wp-content/uploads/2024/02/Worship.001.png
ORGANIZER;CN="Good Shepherd":MAILTO:shepherd@gslc.net
END:VEVENT
BEGIN:VEVENT
DTSTART;TZID=America/Denver:20261018T093000
DTEND;TZID=America/Denver:20261018T103000
DTSTAMP:20260425T075406
CREATED:20260318T174716Z
LAST-MODIFIED:20260413T163538Z
UID:10001555-1792315800-1792319400@goodshepherdutah.com
SUMMARY:Sunday Morning Worship
DESCRIPTION:Join us for worship on Sunday mornings at Good Shepherd. Services are held at 8:00 and 9:30 AM. The 8:00 and 9:30 AM services are available online. We would love to have you join us this weekend
URL:https://goodshepherdutah.com/event/sunday-morning-worship/2026-10-18/
LOCATION:Good Shepherd\, 8575 South 700 East\, Sandy\, Utah\, 84070\, United States
CATEGORIES:Worship Service
ATTACH;FMTTYPE=image/png:https://goodshepherdutah.com/wp-content/uploads/2024/02/Worship.001.png
ORGANIZER;CN="Good Shepherd":MAILTO:shepherd@gslc.net
END:VEVENT
BEGIN:VEVENT
DTSTART;TZID=America/Denver:20261025T080000
DTEND;TZID=America/Denver:20261025T090000
DTSTAMP:20260425T075406
CREATED:20260413T162145Z
LAST-MODIFIED:20260413T162146Z
UID:10000156-1792915200-1792918800@goodshepherdutah.com
SUMMARY:Sunday Morning Worship
DESCRIPTION:Join us for worship on Sunday mornings at Good Shepherd. Services are held at 8:00 and 9:30 AM. The 8:00 and 9:30 AM services are available online. We would love to have you join us this weekend
URL:https://goodshepherdutah.com/event/sunday-morning-worship-4-3-2-2/2026-10-25/
LOCATION:Good Shepherd\, 8575 South 700 East\, Sandy\, Utah\, 84070\, United States
CATEGORIES:Worship Service
ATTACH;FMTTYPE=image/png:https://goodshepherdutah.com/wp-content/uploads/2024/02/Worship.001.png
ORGANIZER;CN="Good Shepherd":MAILTO:shepherd@gslc.net
END:VEVENT
BEGIN:VEVENT
DTSTART;TZID=America/Denver:20261025T093000
DTEND;TZID=America/Denver:20261025T103000
DTSTAMP:20260425T075406
CREATED:20260318T174716Z
LAST-MODIFIED:20260413T163538Z
UID:10001556-1792920600-1792924200@goodshepherdutah.com
SUMMARY:Sunday Morning Worship
DESCRIPTION:Join us for worship on Sunday mornings at Good Shepherd. Services are held at 8:00 and 9:30 AM. The 8:00 and 9:30 AM services are available online. We would love to have you join us this weekend
URL:https://goodshepherdutah.com/event/sunday-morning-worship/2026-10-25/
LOCATION:Good Shepherd\, 8575 South 700 East\, Sandy\, Utah\, 84070\, United States
CATEGORIES:Worship Service
ATTACH;FMTTYPE=image/png:https://goodshepherdutah.com/wp-content/uploads/2024/02/Worship.001.png
ORGANIZER;CN="Good Shepherd":MAILTO:shepherd@gslc.net
END:VEVENT
BEGIN:VEVENT
DTSTART;TZID=America/Denver:20261101T080000
DTEND;TZID=America/Denver:20261101T090000
DTSTAMP:20260425T075406
CREATED:20260413T162145Z
LAST-MODIFIED:20260413T162146Z
UID:10000157-1793520000-1793523600@goodshepherdutah.com
SUMMARY:Sunday Morning Worship
DESCRIPTION:Join us for worship on Sunday mornings at Good Shepherd. Services are held at 8:00 and 9:30 AM. The 8:00 and 9:30 AM services are available online. We would love to have you join us this weekend
URL:https://goodshepherdutah.com/event/sunday-morning-worship-4-3-2-2/2026-11-01/
LOCATION:Good Shepherd\, 8575 South 700 East\, Sandy\, Utah\, 84070\, United States
CATEGORIES:Worship Service
ATTACH;FMTTYPE=image/png:https://goodshepherdutah.com/wp-content/uploads/2024/02/Worship.001.png
ORGANIZER;CN="Good Shepherd":MAILTO:shepherd@gslc.net
END:VEVENT
BEGIN:VEVENT
DTSTART;TZID=America/Denver:20261101T093000
DTEND;TZID=America/Denver:20261101T103000
DTSTAMP:20260425T075406
CREATED:20260318T174716Z
LAST-MODIFIED:20260413T163538Z
UID:10001557-1793525400-1793529000@goodshepherdutah.com
SUMMARY:Sunday Morning Worship
DESCRIPTION:Join us for worship on Sunday mornings at Good Shepherd. Services are held at 8:00 and 9:30 AM. The 8:00 and 9:30 AM services are available online. We would love to have you join us this weekend
URL:https://goodshepherdutah.com/event/sunday-morning-worship/2026-11-01/
LOCATION:Good Shepherd\, 8575 South 700 East\, Sandy\, Utah\, 84070\, United States
CATEGORIES:Worship Service
ATTACH;FMTTYPE=image/png:https://goodshepherdutah.com/wp-content/uploads/2024/02/Worship.001.png
ORGANIZER;CN="Good Shepherd":MAILTO:shepherd@gslc.net
END:VEVENT
BEGIN:VEVENT
DTSTART;TZID=America/Denver:20261108T080000
DTEND;TZID=America/Denver:20261108T090000
DTSTAMP:20260425T075406
CREATED:20260413T162145Z
LAST-MODIFIED:20260413T162146Z
UID:10000158-1794124800-1794128400@goodshepherdutah.com
SUMMARY:Sunday Morning Worship
DESCRIPTION:Join us for worship on Sunday mornings at Good Shepherd. Services are held at 8:00 and 9:30 AM. The 8:00 and 9:30 AM services are available online. We would love to have you join us this weekend
URL:https://goodshepherdutah.com/event/sunday-morning-worship-4-3-2-2/2026-11-08/
LOCATION:Good Shepherd\, 8575 South 700 East\, Sandy\, Utah\, 84070\, United States
CATEGORIES:Worship Service
ATTACH;FMTTYPE=image/png:https://goodshepherdutah.com/wp-content/uploads/2024/02/Worship.001.png
ORGANIZER;CN="Good Shepherd":MAILTO:shepherd@gslc.net
END:VEVENT
BEGIN:VEVENT
DTSTART;TZID=America/Denver:20261108T093000
DTEND;TZID=America/Denver:20261108T103000
DTSTAMP:20260425T075406
CREATED:20260318T174716Z
LAST-MODIFIED:20260413T163538Z
UID:10001558-1794130200-1794133800@goodshepherdutah.com
SUMMARY:Sunday Morning Worship
DESCRIPTION:Join us for worship on Sunday mornings at Good Shepherd. Services are held at 8:00 and 9:30 AM. The 8:00 and 9:30 AM services are available online. We would love to have you join us this weekend
URL:https://goodshepherdutah.com/event/sunday-morning-worship/2026-11-08/
LOCATION:Good Shepherd\, 8575 South 700 East\, Sandy\, Utah\, 84070\, United States
CATEGORIES:Worship Service
ATTACH;FMTTYPE=image/png:https://goodshepherdutah.com/wp-content/uploads/2024/02/Worship.001.png
ORGANIZER;CN="Good Shepherd":MAILTO:shepherd@gslc.net
END:VEVENT
BEGIN:VEVENT
DTSTART;TZID=America/Denver:20261115T080000
DTEND;TZID=America/Denver:20261115T090000
DTSTAMP:20260425T075406
CREATED:20260413T162145Z
LAST-MODIFIED:20260413T162146Z
UID:10000159-1794729600-1794733200@goodshepherdutah.com
SUMMARY:Sunday Morning Worship
DESCRIPTION:Join us for worship on Sunday mornings at Good Shepherd. Services are held at 8:00 and 9:30 AM. The 8:00 and 9:30 AM services are available online. We would love to have you join us this weekend
URL:https://goodshepherdutah.com/event/sunday-morning-worship-4-3-2-2/2026-11-15/
LOCATION:Good Shepherd\, 8575 South 700 East\, Sandy\, Utah\, 84070\, United States
CATEGORIES:Worship Service
ATTACH;FMTTYPE=image/png:https://goodshepherdutah.com/wp-content/uploads/2024/02/Worship.001.png
ORGANIZER;CN="Good Shepherd":MAILTO:shepherd@gslc.net
END:VEVENT
BEGIN:VEVENT
DTSTART;TZID=America/Denver:20261115T093000
DTEND;TZID=America/Denver:20261115T103000
DTSTAMP:20260425T075406
CREATED:20260318T174716Z
LAST-MODIFIED:20260413T163538Z
UID:10001559-1794735000-1794738600@goodshepherdutah.com
SUMMARY:Sunday Morning Worship
DESCRIPTION:Join us for worship on Sunday mornings at Good Shepherd. Services are held at 8:00 and 9:30 AM. The 8:00 and 9:30 AM services are available online. We would love to have you join us this weekend
URL:https://goodshepherdutah.com/event/sunday-morning-worship/2026-11-15/
LOCATION:Good Shepherd\, 8575 South 700 East\, Sandy\, Utah\, 84070\, United States
CATEGORIES:Worship Service
ATTACH;FMTTYPE=image/png:https://goodshepherdutah.com/wp-content/uploads/2024/02/Worship.001.png
ORGANIZER;CN="Good Shepherd":MAILTO:shepherd@gslc.net
END:VEVENT
BEGIN:VEVENT
DTSTART;TZID=America/Denver:20261122T080000
DTEND;TZID=America/Denver:20261122T090000
DTSTAMP:20260425T075406
CREATED:20260413T162145Z
LAST-MODIFIED:20260413T162146Z
UID:10000160-1795334400-1795338000@goodshepherdutah.com
SUMMARY:Sunday Morning Worship
DESCRIPTION:Join us for worship on Sunday mornings at Good Shepherd. Services are held at 8:00 and 9:30 AM. The 8:00 and 9:30 AM services are available online. We would love to have you join us this weekend
URL:https://goodshepherdutah.com/event/sunday-morning-worship-4-3-2-2/2026-11-22/
LOCATION:Good Shepherd\, 8575 South 700 East\, Sandy\, Utah\, 84070\, United States
CATEGORIES:Worship Service
ATTACH;FMTTYPE=image/png:https://goodshepherdutah.com/wp-content/uploads/2024/02/Worship.001.png
ORGANIZER;CN="Good Shepherd":MAILTO:shepherd@gslc.net
END:VEVENT
BEGIN:VEVENT
DTSTART;TZID=America/Denver:20261122T093000
DTEND;TZID=America/Denver:20261122T103000
DTSTAMP:20260425T075406
CREATED:20260318T174716Z
LAST-MODIFIED:20260413T163538Z
UID:10001560-1795339800-1795343400@goodshepherdutah.com
SUMMARY:Sunday Morning Worship
DESCRIPTION:Join us for worship on Sunday mornings at Good Shepherd. Services are held at 8:00 and 9:30 AM. The 8:00 and 9:30 AM services are available online. We would love to have you join us this weekend
URL:https://goodshepherdutah.com/event/sunday-morning-worship/2026-11-22/
LOCATION:Good Shepherd\, 8575 South 700 East\, Sandy\, Utah\, 84070\, United States
CATEGORIES:Worship Service
ATTACH;FMTTYPE=image/png:https://goodshepherdutah.com/wp-content/uploads/2024/02/Worship.001.png
ORGANIZER;CN="Good Shepherd":MAILTO:shepherd@gslc.net
END:VEVENT
BEGIN:VEVENT
DTSTART;TZID=America/Denver:20261129T080000
DTEND;TZID=America/Denver:20261129T090000
DTSTAMP:20260425T075406
CREATED:20260413T162145Z
LAST-MODIFIED:20260413T162146Z
UID:10000161-1795939200-1795942800@goodshepherdutah.com
SUMMARY:Sunday Morning Worship
DESCRIPTION:Join us for worship on Sunday mornings at Good Shepherd. Services are held at 8:00 and 9:30 AM. The 8:00 and 9:30 AM services are available online. We would love to have you join us this weekend
URL:https://goodshepherdutah.com/event/sunday-morning-worship-4-3-2-2/2026-11-29/
LOCATION:Good Shepherd\, 8575 South 700 East\, Sandy\, Utah\, 84070\, United States
CATEGORIES:Worship Service
ATTACH;FMTTYPE=image/png:https://goodshepherdutah.com/wp-content/uploads/2024/02/Worship.001.png
ORGANIZER;CN="Good Shepherd":MAILTO:shepherd@gslc.net
END:VEVENT
BEGIN:VEVENT
DTSTART;TZID=America/Denver:20261129T093000
DTEND;TZID=America/Denver:20261129T103000
DTSTAMP:20260425T075406
CREATED:20260318T174716Z
LAST-MODIFIED:20260413T163538Z
UID:10001561-1795944600-1795948200@goodshepherdutah.com
SUMMARY:Sunday Morning Worship
DESCRIPTION:Join us for worship on Sunday mornings at Good Shepherd. Services are held at 8:00 and 9:30 AM. The 8:00 and 9:30 AM services are available online. We would love to have you join us this weekend
URL:https://goodshepherdutah.com/event/sunday-morning-worship/2026-11-29/
LOCATION:Good Shepherd\, 8575 South 700 East\, Sandy\, Utah\, 84070\, United States
CATEGORIES:Worship Service
ATTACH;FMTTYPE=image/png:https://goodshepherdutah.com/wp-content/uploads/2024/02/Worship.001.png
ORGANIZER;CN="Good Shepherd":MAILTO:shepherd@gslc.net
END:VEVENT
BEGIN:VEVENT
DTSTART;TZID=America/Denver:20261206T080000
DTEND;TZID=America/Denver:20261206T090000
DTSTAMP:20260425T075406
CREATED:20260413T162145Z
LAST-MODIFIED:20260413T162146Z
UID:10000162-1796544000-1796547600@goodshepherdutah.com
SUMMARY:Sunday Morning Worship
DESCRIPTION:Join us for worship on Sunday mornings at Good Shepherd. Services are held at 8:00 and 9:30 AM. The 8:00 and 9:30 AM services are available online. We would love to have you join us this weekend
URL:https://goodshepherdutah.com/event/sunday-morning-worship-4-3-2-2/2026-12-06/
LOCATION:Good Shepherd\, 8575 South 700 East\, Sandy\, Utah\, 84070\, United States
CATEGORIES:Worship Service
ATTACH;FMTTYPE=image/png:https://goodshepherdutah.com/wp-content/uploads/2024/02/Worship.001.png
ORGANIZER;CN="Good Shepherd":MAILTO:shepherd@gslc.net
END:VEVENT
BEGIN:VEVENT
DTSTART;TZID=America/Denver:20261206T093000
DTEND;TZID=America/Denver:20261206T103000
DTSTAMP:20260425T075406
CREATED:20260318T174716Z
LAST-MODIFIED:20260413T163538Z
UID:10001562-1796549400-1796553000@goodshepherdutah.com
SUMMARY:Sunday Morning Worship
DESCRIPTION:Join us for worship on Sunday mornings at Good Shepherd. Services are held at 8:00 and 9:30 AM. The 8:00 and 9:30 AM services are available online. We would love to have you join us this weekend
URL:https://goodshepherdutah.com/event/sunday-morning-worship/2026-12-06/
LOCATION:Good Shepherd\, 8575 South 700 East\, Sandy\, Utah\, 84070\, United States
CATEGORIES:Worship Service
ATTACH;FMTTYPE=image/png:https://goodshepherdutah.com/wp-content/uploads/2024/02/Worship.001.png
ORGANIZER;CN="Good Shepherd":MAILTO:shepherd@gslc.net
END:VEVENT
BEGIN:VEVENT
DTSTART;TZID=America/Denver:20261213T080000
DTEND;TZID=America/Denver:20261213T090000
DTSTAMP:20260425T075406
CREATED:20260413T162145Z
LAST-MODIFIED:20260413T162146Z
UID:10000163-1797148800-1797152400@goodshepherdutah.com
SUMMARY:Sunday Morning Worship
DESCRIPTION:Join us for worship on Sunday mornings at Good Shepherd. Services are held at 8:00 and 9:30 AM. The 8:00 and 9:30 AM services are available online. We would love to have you join us this weekend
URL:https://goodshepherdutah.com/event/sunday-morning-worship-4-3-2-2/2026-12-13/
LOCATION:Good Shepherd\, 8575 South 700 East\, Sandy\, Utah\, 84070\, United States
CATEGORIES:Worship Service
ATTACH;FMTTYPE=image/png:https://goodshepherdutah.com/wp-content/uploads/2024/02/Worship.001.png
ORGANIZER;CN="Good Shepherd":MAILTO:shepherd@gslc.net
END:VEVENT
BEGIN:VEVENT
DTSTART;TZID=America/Denver:20261213T093000
DTEND;TZID=America/Denver:20261213T103000
DTSTAMP:20260425T075406
CREATED:20260318T174716Z
LAST-MODIFIED:20260413T163538Z
UID:10001563-1797154200-1797157800@goodshepherdutah.com
SUMMARY:Sunday Morning Worship
DESCRIPTION:Join us for worship on Sunday mornings at Good Shepherd. Services are held at 8:00 and 9:30 AM. The 8:00 and 9:30 AM services are available online. We would love to have you join us this weekend
URL:https://goodshepherdutah.com/event/sunday-morning-worship/2026-12-13/
LOCATION:Good Shepherd\, 8575 South 700 East\, Sandy\, Utah\, 84070\, United States
CATEGORIES:Worship Service
ATTACH;FMTTYPE=image/png:https://goodshepherdutah.com/wp-content/uploads/2024/02/Worship.001.png
ORGANIZER;CN="Good Shepherd":MAILTO:shepherd@gslc.net
END:VEVENT
BEGIN:VEVENT
DTSTART;TZID=America/Denver:20261220T080000
DTEND;TZID=America/Denver:20261220T090000
DTSTAMP:20260425T075406
CREATED:20260413T162145Z
LAST-MODIFIED:20260413T162146Z
UID:10000164-1797753600-1797757200@goodshepherdutah.com
SUMMARY:Sunday Morning Worship
DESCRIPTION:Join us for worship on Sunday mornings at Good Shepherd. Services are held at 8:00 and 9:30 AM. The 8:00 and 9:30 AM services are available online. We would love to have you join us this weekend
URL:https://goodshepherdutah.com/event/sunday-morning-worship-4-3-2-2/2026-12-20/
LOCATION:Good Shepherd\, 8575 South 700 East\, Sandy\, Utah\, 84070\, United States
CATEGORIES:Worship Service
ATTACH;FMTTYPE=image/png:https://goodshepherdutah.com/wp-content/uploads/2024/02/Worship.001.png
ORGANIZER;CN="Good Shepherd":MAILTO:shepherd@gslc.net
END:VEVENT
BEGIN:VEVENT
DTSTART;TZID=America/Denver:20261220T093000
DTEND;TZID=America/Denver:20261220T103000
DTSTAMP:20260425T075406
CREATED:20260318T174716Z
LAST-MODIFIED:20260413T163538Z
UID:10001564-1797759000-1797762600@goodshepherdutah.com
SUMMARY:Sunday Morning Worship
DESCRIPTION:Join us for worship on Sunday mornings at Good Shepherd. Services are held at 8:00 and 9:30 AM. The 8:00 and 9:30 AM services are available online. We would love to have you join us this weekend
URL:https://goodshepherdutah.com/event/sunday-morning-worship/2026-12-20/
LOCATION:Good Shepherd\, 8575 South 700 East\, Sandy\, Utah\, 84070\, United States
CATEGORIES:Worship Service
ATTACH;FMTTYPE=image/png:https://goodshepherdutah.com/wp-content/uploads/2024/02/Worship.001.png
ORGANIZER;CN="Good Shepherd":MAILTO:shepherd@gslc.net
END:VEVENT
BEGIN:VEVENT
DTSTART;TZID=America/Denver:20261227T080000
DTEND;TZID=America/Denver:20261227T090000
DTSTAMP:20260425T075406
CREATED:20260413T162145Z
LAST-MODIFIED:20260413T162146Z
UID:10000165-1798358400-1798362000@goodshepherdutah.com
SUMMARY:Sunday Morning Worship
DESCRIPTION:Join us for worship on Sunday mornings at Good Shepherd. Services are held at 8:00 and 9:30 AM. The 8:00 and 9:30 AM services are available online. We would love to have you join us this weekend
URL:https://goodshepherdutah.com/event/sunday-morning-worship-4-3-2-2/2026-12-27/
LOCATION:Good Shepherd\, 8575 South 700 East\, Sandy\, Utah\, 84070\, United States
CATEGORIES:Worship Service
ATTACH;FMTTYPE=image/png:https://goodshepherdutah.com/wp-content/uploads/2024/02/Worship.001.png
ORGANIZER;CN="Good Shepherd":MAILTO:shepherd@gslc.net
END:VEVENT
BEGIN:VEVENT
DTSTART;TZID=America/Denver:20261227T093000
DTEND;TZID=America/Denver:20261227T103000
DTSTAMP:20260425T075406
CREATED:20260318T174716Z
LAST-MODIFIED:20260413T163538Z
UID:10001565-1798363800-1798367400@goodshepherdutah.com
SUMMARY:Sunday Morning Worship
DESCRIPTION:Join us for worship on Sunday mornings at Good Shepherd. Services are held at 8:00 and 9:30 AM. The 8:00 and 9:30 AM services are available online. We would love to have you join us this weekend
URL:https://goodshepherdutah.com/event/sunday-morning-worship/2026-12-27/
LOCATION:Good Shepherd\, 8575 South 700 East\, Sandy\, Utah\, 84070\, United States
CATEGORIES:Worship Service
ATTACH;FMTTYPE=image/png:https://goodshepherdutah.com/wp-content/uploads/2024/02/Worship.001.png
ORGANIZER;CN="Good Shepherd":MAILTO:shepherd@gslc.net
END:VEVENT
BEGIN:VEVENT
DTSTART;TZID=America/Denver:20270103T080000
DTEND;TZID=America/Denver:20270103T090000
DTSTAMP:20260425T075406
CREATED:20260413T162145Z
LAST-MODIFIED:20260413T162146Z
UID:10000166-1798963200-1798966800@goodshepherdutah.com
SUMMARY:Sunday Morning Worship
DESCRIPTION:Join us for worship on Sunday mornings at Good Shepherd. Services are held at 8:00 and 9:30 AM. The 8:00 and 9:30 AM services are available online. We would love to have you join us this weekend
URL:https://goodshepherdutah.com/event/sunday-morning-worship-4-3-2-2/2027-01-03/
LOCATION:Good Shepherd\, 8575 South 700 East\, Sandy\, Utah\, 84070\, United States
CATEGORIES:Worship Service
ATTACH;FMTTYPE=image/png:https://goodshepherdutah.com/wp-content/uploads/2024/02/Worship.001.png
ORGANIZER;CN="Good Shepherd":MAILTO:shepherd@gslc.net
END:VEVENT
BEGIN:VEVENT
DTSTART;TZID=America/Denver:20270103T093000
DTEND;TZID=America/Denver:20270103T103000
DTSTAMP:20260425T075406
CREATED:20260318T174716Z
LAST-MODIFIED:20260413T163538Z
UID:10001566-1798968600-1798972200@goodshepherdutah.com
SUMMARY:Sunday Morning Worship
DESCRIPTION:Join us for worship on Sunday mornings at Good Shepherd. Services are held at 8:00 and 9:30 AM. The 8:00 and 9:30 AM services are available online. We would love to have you join us this weekend
URL:https://goodshepherdutah.com/event/sunday-morning-worship/2027-01-03/
LOCATION:Good Shepherd\, 8575 South 700 East\, Sandy\, Utah\, 84070\, United States
CATEGORIES:Worship Service
ATTACH;FMTTYPE=image/png:https://goodshepherdutah.com/wp-content/uploads/2024/02/Worship.001.png
ORGANIZER;CN="Good Shepherd":MAILTO:shepherd@gslc.net
END:VEVENT
END:VCALENDAR