BEGIN:VCALENDAR
VERSION:2.0
PRODID:-//Good Shepherd - ECPv6.15.20//NONSGML v1.0//EN
CALSCALE:GREGORIAN
METHOD:PUBLISH
X-ORIGINAL-URL:https://goodshepherdutah.com
X-WR-CALDESC:Events for Good Shepherd
REFRESH-INTERVAL;VALUE=DURATION:PT1H
X-Robots-Tag:noindex
X-PUBLISHED-TTL:PT1H
BEGIN:VTIMEZONE
TZID:America/Denver
BEGIN:DAYLIGHT
TZOFFSETFROM:-0700
TZOFFSETTO:-0600
TZNAME:MDT
DTSTART:20250309T090000
END:DAYLIGHT
BEGIN:STANDARD
TZOFFSETFROM:-0600
TZOFFSETTO:-0700
TZNAME:MST
DTSTART:20251102T080000
END:STANDARD
BEGIN:DAYLIGHT
TZOFFSETFROM:-0700
TZOFFSETTO:-0600
TZNAME:MDT
DTSTART:20260308T090000
END:DAYLIGHT
BEGIN:STANDARD
TZOFFSETFROM:-0600
TZOFFSETTO:-0700
TZNAME:MST
DTSTART:20261101T080000
END:STANDARD
BEGIN:DAYLIGHT
TZOFFSETFROM:-0700
TZOFFSETTO:-0600
TZNAME:MDT
DTSTART:20270314T090000
END:DAYLIGHT
BEGIN:STANDARD
TZOFFSETFROM:-0600
TZOFFSETTO:-0700
TZNAME:MST
DTSTART:20271107T080000
END:STANDARD
BEGIN:DAYLIGHT
TZOFFSETFROM:-0700
TZOFFSETTO:-0600
TZNAME:MDT
DTSTART:20280312T090000
END:DAYLIGHT
BEGIN:STANDARD
TZOFFSETFROM:-0600
TZOFFSETTO:-0700
TZNAME:MST
DTSTART:20281105T080000
END:STANDARD
END:VTIMEZONE
BEGIN:VEVENT
DTSTART;TZID=America/Denver:20261011T093000
DTEND;TZID=America/Denver:20261011T103000
DTSTAMP:20260424T152520
CREATED:20260318T174716Z
LAST-MODIFIED:20260413T163538Z
UID:10001554-1791711000-1791714600@goodshepherdutah.com
SUMMARY:Sunday Morning Worship
DESCRIPTION:Join us for worship on Sunday mornings at Good Shepherd. Services are held at 8:00 and 9:30 AM. The 8:00 and 9:30 AM services are available online. We would love to have you join us this weekend
URL:https://goodshepherdutah.com/event/sunday-morning-worship/2026-10-11/
LOCATION:Good Shepherd\, 8575 South 700 East\, Sandy\, Utah\, 84070\, United States
CATEGORIES:Worship Service
ATTACH;FMTTYPE=image/png:https://goodshepherdutah.com/wp-content/uploads/2024/02/Worship.001.png
ORGANIZER;CN="Good Shepherd":MAILTO:shepherd@gslc.net
END:VEVENT
BEGIN:VEVENT
DTSTART;TZID=America/Denver:20261018T093000
DTEND;TZID=America/Denver:20261018T103000
DTSTAMP:20260424T152520
CREATED:20260318T174716Z
LAST-MODIFIED:20260413T163538Z
UID:10001555-1792315800-1792319400@goodshepherdutah.com
SUMMARY:Sunday Morning Worship
DESCRIPTION:Join us for worship on Sunday mornings at Good Shepherd. Services are held at 8:00 and 9:30 AM. The 8:00 and 9:30 AM services are available online. We would love to have you join us this weekend
URL:https://goodshepherdutah.com/event/sunday-morning-worship/2026-10-18/
LOCATION:Good Shepherd\, 8575 South 700 East\, Sandy\, Utah\, 84070\, United States
CATEGORIES:Worship Service
ATTACH;FMTTYPE=image/png:https://goodshepherdutah.com/wp-content/uploads/2024/02/Worship.001.png
ORGANIZER;CN="Good Shepherd":MAILTO:shepherd@gslc.net
END:VEVENT
BEGIN:VEVENT
DTSTART;TZID=America/Denver:20261025T093000
DTEND;TZID=America/Denver:20261025T103000
DTSTAMP:20260424T152520
CREATED:20260318T174716Z
LAST-MODIFIED:20260413T163538Z
UID:10001556-1792920600-1792924200@goodshepherdutah.com
SUMMARY:Sunday Morning Worship
DESCRIPTION:Join us for worship on Sunday mornings at Good Shepherd. Services are held at 8:00 and 9:30 AM. The 8:00 and 9:30 AM services are available online. We would love to have you join us this weekend
URL:https://goodshepherdutah.com/event/sunday-morning-worship/2026-10-25/
LOCATION:Good Shepherd\, 8575 South 700 East\, Sandy\, Utah\, 84070\, United States
CATEGORIES:Worship Service
ATTACH;FMTTYPE=image/png:https://goodshepherdutah.com/wp-content/uploads/2024/02/Worship.001.png
ORGANIZER;CN="Good Shepherd":MAILTO:shepherd@gslc.net
END:VEVENT
BEGIN:VEVENT
DTSTART;TZID=America/Denver:20261101T093000
DTEND;TZID=America/Denver:20261101T103000
DTSTAMP:20260424T152520
CREATED:20260318T174716Z
LAST-MODIFIED:20260413T163538Z
UID:10001557-1793525400-1793529000@goodshepherdutah.com
SUMMARY:Sunday Morning Worship
DESCRIPTION:Join us for worship on Sunday mornings at Good Shepherd. Services are held at 8:00 and 9:30 AM. The 8:00 and 9:30 AM services are available online. We would love to have you join us this weekend
URL:https://goodshepherdutah.com/event/sunday-morning-worship/2026-11-01/
LOCATION:Good Shepherd\, 8575 South 700 East\, Sandy\, Utah\, 84070\, United States
CATEGORIES:Worship Service
ATTACH;FMTTYPE=image/png:https://goodshepherdutah.com/wp-content/uploads/2024/02/Worship.001.png
ORGANIZER;CN="Good Shepherd":MAILTO:shepherd@gslc.net
END:VEVENT
BEGIN:VEVENT
DTSTART;TZID=America/Denver:20261108T093000
DTEND;TZID=America/Denver:20261108T103000
DTSTAMP:20260424T152520
CREATED:20260318T174716Z
LAST-MODIFIED:20260413T163538Z
UID:10001558-1794130200-1794133800@goodshepherdutah.com
SUMMARY:Sunday Morning Worship
DESCRIPTION:Join us for worship on Sunday mornings at Good Shepherd. Services are held at 8:00 and 9:30 AM. The 8:00 and 9:30 AM services are available online. We would love to have you join us this weekend
URL:https://goodshepherdutah.com/event/sunday-morning-worship/2026-11-08/
LOCATION:Good Shepherd\, 8575 South 700 East\, Sandy\, Utah\, 84070\, United States
CATEGORIES:Worship Service
ATTACH;FMTTYPE=image/png:https://goodshepherdutah.com/wp-content/uploads/2024/02/Worship.001.png
ORGANIZER;CN="Good Shepherd":MAILTO:shepherd@gslc.net
END:VEVENT
BEGIN:VEVENT
DTSTART;TZID=America/Denver:20261115T093000
DTEND;TZID=America/Denver:20261115T103000
DTSTAMP:20260424T152520
CREATED:20260318T174716Z
LAST-MODIFIED:20260413T163538Z
UID:10001559-1794735000-1794738600@goodshepherdutah.com
SUMMARY:Sunday Morning Worship
DESCRIPTION:Join us for worship on Sunday mornings at Good Shepherd. Services are held at 8:00 and 9:30 AM. The 8:00 and 9:30 AM services are available online. We would love to have you join us this weekend
URL:https://goodshepherdutah.com/event/sunday-morning-worship/2026-11-15/
LOCATION:Good Shepherd\, 8575 South 700 East\, Sandy\, Utah\, 84070\, United States
CATEGORIES:Worship Service
ATTACH;FMTTYPE=image/png:https://goodshepherdutah.com/wp-content/uploads/2024/02/Worship.001.png
ORGANIZER;CN="Good Shepherd":MAILTO:shepherd@gslc.net
END:VEVENT
BEGIN:VEVENT
DTSTART;TZID=America/Denver:20261122T093000
DTEND;TZID=America/Denver:20261122T103000
DTSTAMP:20260424T152520
CREATED:20260318T174716Z
LAST-MODIFIED:20260413T163538Z
UID:10001560-1795339800-1795343400@goodshepherdutah.com
SUMMARY:Sunday Morning Worship
DESCRIPTION:Join us for worship on Sunday mornings at Good Shepherd. Services are held at 8:00 and 9:30 AM. The 8:00 and 9:30 AM services are available online. We would love to have you join us this weekend
URL:https://goodshepherdutah.com/event/sunday-morning-worship/2026-11-22/
LOCATION:Good Shepherd\, 8575 South 700 East\, Sandy\, Utah\, 84070\, United States
CATEGORIES:Worship Service
ATTACH;FMTTYPE=image/png:https://goodshepherdutah.com/wp-content/uploads/2024/02/Worship.001.png
ORGANIZER;CN="Good Shepherd":MAILTO:shepherd@gslc.net
END:VEVENT
BEGIN:VEVENT
DTSTART;TZID=America/Denver:20261129T093000
DTEND;TZID=America/Denver:20261129T103000
DTSTAMP:20260424T152520
CREATED:20260318T174716Z
LAST-MODIFIED:20260413T163538Z
UID:10001561-1795944600-1795948200@goodshepherdutah.com
SUMMARY:Sunday Morning Worship
DESCRIPTION:Join us for worship on Sunday mornings at Good Shepherd. Services are held at 8:00 and 9:30 AM. The 8:00 and 9:30 AM services are available online. We would love to have you join us this weekend
URL:https://goodshepherdutah.com/event/sunday-morning-worship/2026-11-29/
LOCATION:Good Shepherd\, 8575 South 700 East\, Sandy\, Utah\, 84070\, United States
CATEGORIES:Worship Service
ATTACH;FMTTYPE=image/png:https://goodshepherdutah.com/wp-content/uploads/2024/02/Worship.001.png
ORGANIZER;CN="Good Shepherd":MAILTO:shepherd@gslc.net
END:VEVENT
BEGIN:VEVENT
DTSTART;TZID=America/Denver:20261206T093000
DTEND;TZID=America/Denver:20261206T103000
DTSTAMP:20260424T152520
CREATED:20260318T174716Z
LAST-MODIFIED:20260413T163538Z
UID:10001562-1796549400-1796553000@goodshepherdutah.com
SUMMARY:Sunday Morning Worship
DESCRIPTION:Join us for worship on Sunday mornings at Good Shepherd. Services are held at 8:00 and 9:30 AM. The 8:00 and 9:30 AM services are available online. We would love to have you join us this weekend
URL:https://goodshepherdutah.com/event/sunday-morning-worship/2026-12-06/
LOCATION:Good Shepherd\, 8575 South 700 East\, Sandy\, Utah\, 84070\, United States
CATEGORIES:Worship Service
ATTACH;FMTTYPE=image/png:https://goodshepherdutah.com/wp-content/uploads/2024/02/Worship.001.png
ORGANIZER;CN="Good Shepherd":MAILTO:shepherd@gslc.net
END:VEVENT
BEGIN:VEVENT
DTSTART;TZID=America/Denver:20261213T093000
DTEND;TZID=America/Denver:20261213T103000
DTSTAMP:20260424T152520
CREATED:20260318T174716Z
LAST-MODIFIED:20260413T163538Z
UID:10001563-1797154200-1797157800@goodshepherdutah.com
SUMMARY:Sunday Morning Worship
DESCRIPTION:Join us for worship on Sunday mornings at Good Shepherd. Services are held at 8:00 and 9:30 AM. The 8:00 and 9:30 AM services are available online. We would love to have you join us this weekend
URL:https://goodshepherdutah.com/event/sunday-morning-worship/2026-12-13/
LOCATION:Good Shepherd\, 8575 South 700 East\, Sandy\, Utah\, 84070\, United States
CATEGORIES:Worship Service
ATTACH;FMTTYPE=image/png:https://goodshepherdutah.com/wp-content/uploads/2024/02/Worship.001.png
ORGANIZER;CN="Good Shepherd":MAILTO:shepherd@gslc.net
END:VEVENT
BEGIN:VEVENT
DTSTART;TZID=America/Denver:20261220T093000
DTEND;TZID=America/Denver:20261220T103000
DTSTAMP:20260424T152520
CREATED:20260318T174716Z
LAST-MODIFIED:20260413T163538Z
UID:10001564-1797759000-1797762600@goodshepherdutah.com
SUMMARY:Sunday Morning Worship
DESCRIPTION:Join us for worship on Sunday mornings at Good Shepherd. Services are held at 8:00 and 9:30 AM. The 8:00 and 9:30 AM services are available online. We would love to have you join us this weekend
URL:https://goodshepherdutah.com/event/sunday-morning-worship/2026-12-20/
LOCATION:Good Shepherd\, 8575 South 700 East\, Sandy\, Utah\, 84070\, United States
CATEGORIES:Worship Service
ATTACH;FMTTYPE=image/png:https://goodshepherdutah.com/wp-content/uploads/2024/02/Worship.001.png
ORGANIZER;CN="Good Shepherd":MAILTO:shepherd@gslc.net
END:VEVENT
BEGIN:VEVENT
DTSTART;TZID=America/Denver:20261227T093000
DTEND;TZID=America/Denver:20261227T103000
DTSTAMP:20260424T152520
CREATED:20260318T174716Z
LAST-MODIFIED:20260413T163538Z
UID:10001565-1798363800-1798367400@goodshepherdutah.com
SUMMARY:Sunday Morning Worship
DESCRIPTION:Join us for worship on Sunday mornings at Good Shepherd. Services are held at 8:00 and 9:30 AM. The 8:00 and 9:30 AM services are available online. We would love to have you join us this weekend
URL:https://goodshepherdutah.com/event/sunday-morning-worship/2026-12-27/
LOCATION:Good Shepherd\, 8575 South 700 East\, Sandy\, Utah\, 84070\, United States
CATEGORIES:Worship Service
ATTACH;FMTTYPE=image/png:https://goodshepherdutah.com/wp-content/uploads/2024/02/Worship.001.png
ORGANIZER;CN="Good Shepherd":MAILTO:shepherd@gslc.net
END:VEVENT
BEGIN:VEVENT
DTSTART;TZID=America/Denver:20270103T093000
DTEND;TZID=America/Denver:20270103T103000
DTSTAMP:20260424T152520
CREATED:20260318T174716Z
LAST-MODIFIED:20260413T163538Z
UID:10001566-1798968600-1798972200@goodshepherdutah.com
SUMMARY:Sunday Morning Worship
DESCRIPTION:Join us for worship on Sunday mornings at Good Shepherd. Services are held at 8:00 and 9:30 AM. The 8:00 and 9:30 AM services are available online. We would love to have you join us this weekend
URL:https://goodshepherdutah.com/event/sunday-morning-worship/2027-01-03/
LOCATION:Good Shepherd\, 8575 South 700 East\, Sandy\, Utah\, 84070\, United States
CATEGORIES:Worship Service
ATTACH;FMTTYPE=image/png:https://goodshepherdutah.com/wp-content/uploads/2024/02/Worship.001.png
ORGANIZER;CN="Good Shepherd":MAILTO:shepherd@gslc.net
END:VEVENT
BEGIN:VEVENT
DTSTART;TZID=America/Denver:20270110T093000
DTEND;TZID=America/Denver:20270110T103000
DTSTAMP:20260424T152520
CREATED:20260318T174716Z
LAST-MODIFIED:20260413T163538Z
UID:10001567-1799573400-1799577000@goodshepherdutah.com
SUMMARY:Sunday Morning Worship
DESCRIPTION:Join us for worship on Sunday mornings at Good Shepherd. Services are held at 8:00 and 9:30 AM. The 8:00 and 9:30 AM services are available online. We would love to have you join us this weekend
URL:https://goodshepherdutah.com/event/sunday-morning-worship/2027-01-10/
LOCATION:Good Shepherd\, 8575 South 700 East\, Sandy\, Utah\, 84070\, United States
CATEGORIES:Worship Service
ATTACH;FMTTYPE=image/png:https://goodshepherdutah.com/wp-content/uploads/2024/02/Worship.001.png
ORGANIZER;CN="Good Shepherd":MAILTO:shepherd@gslc.net
END:VEVENT
BEGIN:VEVENT
DTSTART;TZID=America/Denver:20270117T093000
DTEND;TZID=America/Denver:20270117T103000
DTSTAMP:20260424T152520
CREATED:20260318T174716Z
LAST-MODIFIED:20260413T163538Z
UID:10001568-1800178200-1800181800@goodshepherdutah.com
SUMMARY:Sunday Morning Worship
DESCRIPTION:Join us for worship on Sunday mornings at Good Shepherd. Services are held at 8:00 and 9:30 AM. The 8:00 and 9:30 AM services are available online. We would love to have you join us this weekend
URL:https://goodshepherdutah.com/event/sunday-morning-worship/2027-01-17/
LOCATION:Good Shepherd\, 8575 South 700 East\, Sandy\, Utah\, 84070\, United States
CATEGORIES:Worship Service
ATTACH;FMTTYPE=image/png:https://goodshepherdutah.com/wp-content/uploads/2024/02/Worship.001.png
ORGANIZER;CN="Good Shepherd":MAILTO:shepherd@gslc.net
END:VEVENT
BEGIN:VEVENT
DTSTART;TZID=America/Denver:20270124T093000
DTEND;TZID=America/Denver:20270124T103000
DTSTAMP:20260424T152520
CREATED:20260318T174716Z
LAST-MODIFIED:20260413T163538Z
UID:10001569-1800783000-1800786600@goodshepherdutah.com
SUMMARY:Sunday Morning Worship
DESCRIPTION:Join us for worship on Sunday mornings at Good Shepherd. Services are held at 8:00 and 9:30 AM. The 8:00 and 9:30 AM services are available online. We would love to have you join us this weekend
URL:https://goodshepherdutah.com/event/sunday-morning-worship/2027-01-24/
LOCATION:Good Shepherd\, 8575 South 700 East\, Sandy\, Utah\, 84070\, United States
CATEGORIES:Worship Service
ATTACH;FMTTYPE=image/png:https://goodshepherdutah.com/wp-content/uploads/2024/02/Worship.001.png
ORGANIZER;CN="Good Shepherd":MAILTO:shepherd@gslc.net
END:VEVENT
BEGIN:VEVENT
DTSTART;TZID=America/Denver:20270131T093000
DTEND;TZID=America/Denver:20270131T103000
DTSTAMP:20260424T152520
CREATED:20260318T174716Z
LAST-MODIFIED:20260413T163538Z
UID:10001570-1801387800-1801391400@goodshepherdutah.com
SUMMARY:Sunday Morning Worship
DESCRIPTION:Join us for worship on Sunday mornings at Good Shepherd. Services are held at 8:00 and 9:30 AM. The 8:00 and 9:30 AM services are available online. We would love to have you join us this weekend
URL:https://goodshepherdutah.com/event/sunday-morning-worship/2027-01-31/
LOCATION:Good Shepherd\, 8575 South 700 East\, Sandy\, Utah\, 84070\, United States
CATEGORIES:Worship Service
ATTACH;FMTTYPE=image/png:https://goodshepherdutah.com/wp-content/uploads/2024/02/Worship.001.png
ORGANIZER;CN="Good Shepherd":MAILTO:shepherd@gslc.net
END:VEVENT
BEGIN:VEVENT
DTSTART;TZID=America/Denver:20270207T093000
DTEND;TZID=America/Denver:20270207T103000
DTSTAMP:20260424T152520
CREATED:20260318T174716Z
LAST-MODIFIED:20260413T163538Z
UID:10001571-1801992600-1801996200@goodshepherdutah.com
SUMMARY:Sunday Morning Worship
DESCRIPTION:Join us for worship on Sunday mornings at Good Shepherd. Services are held at 8:00 and 9:30 AM. The 8:00 and 9:30 AM services are available online. We would love to have you join us this weekend
URL:https://goodshepherdutah.com/event/sunday-morning-worship/2027-02-07/
LOCATION:Good Shepherd\, 8575 South 700 East\, Sandy\, Utah\, 84070\, United States
CATEGORIES:Worship Service
ATTACH;FMTTYPE=image/png:https://goodshepherdutah.com/wp-content/uploads/2024/02/Worship.001.png
ORGANIZER;CN="Good Shepherd":MAILTO:shepherd@gslc.net
END:VEVENT
BEGIN:VEVENT
DTSTART;TZID=America/Denver:20270214T093000
DTEND;TZID=America/Denver:20270214T103000
DTSTAMP:20260424T152520
CREATED:20260318T174716Z
LAST-MODIFIED:20260413T163538Z
UID:10001572-1802597400-1802601000@goodshepherdutah.com
SUMMARY:Sunday Morning Worship
DESCRIPTION:Join us for worship on Sunday mornings at Good Shepherd. Services are held at 8:00 and 9:30 AM. The 8:00 and 9:30 AM services are available online. We would love to have you join us this weekend
URL:https://goodshepherdutah.com/event/sunday-morning-worship/2027-02-14/
LOCATION:Good Shepherd\, 8575 South 700 East\, Sandy\, Utah\, 84070\, United States
CATEGORIES:Worship Service
ATTACH;FMTTYPE=image/png:https://goodshepherdutah.com/wp-content/uploads/2024/02/Worship.001.png
ORGANIZER;CN="Good Shepherd":MAILTO:shepherd@gslc.net
END:VEVENT
BEGIN:VEVENT
DTSTART;TZID=America/Denver:20270221T093000
DTEND;TZID=America/Denver:20270221T103000
DTSTAMP:20260424T152520
CREATED:20260318T174716Z
LAST-MODIFIED:20260413T163538Z
UID:10001573-1803202200-1803205800@goodshepherdutah.com
SUMMARY:Sunday Morning Worship
DESCRIPTION:Join us for worship on Sunday mornings at Good Shepherd. Services are held at 8:00 and 9:30 AM. The 8:00 and 9:30 AM services are available online. We would love to have you join us this weekend
URL:https://goodshepherdutah.com/event/sunday-morning-worship/2027-02-21/
LOCATION:Good Shepherd\, 8575 South 700 East\, Sandy\, Utah\, 84070\, United States
CATEGORIES:Worship Service
ATTACH;FMTTYPE=image/png:https://goodshepherdutah.com/wp-content/uploads/2024/02/Worship.001.png
ORGANIZER;CN="Good Shepherd":MAILTO:shepherd@gslc.net
END:VEVENT
BEGIN:VEVENT
DTSTART;TZID=America/Denver:20270228T093000
DTEND;TZID=America/Denver:20270228T103000
DTSTAMP:20260424T152520
CREATED:20260318T174716Z
LAST-MODIFIED:20260413T163538Z
UID:10001574-1803807000-1803810600@goodshepherdutah.com
SUMMARY:Sunday Morning Worship
DESCRIPTION:Join us for worship on Sunday mornings at Good Shepherd. Services are held at 8:00 and 9:30 AM. The 8:00 and 9:30 AM services are available online. We would love to have you join us this weekend
URL:https://goodshepherdutah.com/event/sunday-morning-worship/2027-02-28/
LOCATION:Good Shepherd\, 8575 South 700 East\, Sandy\, Utah\, 84070\, United States
CATEGORIES:Worship Service
ATTACH;FMTTYPE=image/png:https://goodshepherdutah.com/wp-content/uploads/2024/02/Worship.001.png
ORGANIZER;CN="Good Shepherd":MAILTO:shepherd@gslc.net
END:VEVENT
BEGIN:VEVENT
DTSTART;TZID=America/Denver:20270307T093000
DTEND;TZID=America/Denver:20270307T103000
DTSTAMP:20260424T152520
CREATED:20260318T174716Z
LAST-MODIFIED:20260413T163538Z
UID:10001575-1804411800-1804415400@goodshepherdutah.com
SUMMARY:Sunday Morning Worship
DESCRIPTION:Join us for worship on Sunday mornings at Good Shepherd. Services are held at 8:00 and 9:30 AM. The 8:00 and 9:30 AM services are available online. We would love to have you join us this weekend
URL:https://goodshepherdutah.com/event/sunday-morning-worship/2027-03-07/
LOCATION:Good Shepherd\, 8575 South 700 East\, Sandy\, Utah\, 84070\, United States
CATEGORIES:Worship Service
ATTACH;FMTTYPE=image/png:https://goodshepherdutah.com/wp-content/uploads/2024/02/Worship.001.png
ORGANIZER;CN="Good Shepherd":MAILTO:shepherd@gslc.net
END:VEVENT
BEGIN:VEVENT
DTSTART;TZID=America/Denver:20270314T093000
DTEND;TZID=America/Denver:20270314T103000
DTSTAMP:20260424T152520
CREATED:20260318T174716Z
LAST-MODIFIED:20260413T163538Z
UID:10001576-1805016600-1805020200@goodshepherdutah.com
SUMMARY:Sunday Morning Worship
DESCRIPTION:Join us for worship on Sunday mornings at Good Shepherd. Services are held at 8:00 and 9:30 AM. The 8:00 and 9:30 AM services are available online. We would love to have you join us this weekend
URL:https://goodshepherdutah.com/event/sunday-morning-worship/2027-03-14/
LOCATION:Good Shepherd\, 8575 South 700 East\, Sandy\, Utah\, 84070\, United States
CATEGORIES:Worship Service
ATTACH;FMTTYPE=image/png:https://goodshepherdutah.com/wp-content/uploads/2024/02/Worship.001.png
ORGANIZER;CN="Good Shepherd":MAILTO:shepherd@gslc.net
END:VEVENT
BEGIN:VEVENT
DTSTART;TZID=America/Denver:20270321T093000
DTEND;TZID=America/Denver:20270321T103000
DTSTAMP:20260424T152520
CREATED:20260318T174716Z
LAST-MODIFIED:20260413T163538Z
UID:10001577-1805621400-1805625000@goodshepherdutah.com
SUMMARY:Sunday Morning Worship
DESCRIPTION:Join us for worship on Sunday mornings at Good Shepherd. Services are held at 8:00 and 9:30 AM. The 8:00 and 9:30 AM services are available online. We would love to have you join us this weekend
URL:https://goodshepherdutah.com/event/sunday-morning-worship/2027-03-21/
LOCATION:Good Shepherd\, 8575 South 700 East\, Sandy\, Utah\, 84070\, United States
CATEGORIES:Worship Service
ATTACH;FMTTYPE=image/png:https://goodshepherdutah.com/wp-content/uploads/2024/02/Worship.001.png
ORGANIZER;CN="Good Shepherd":MAILTO:shepherd@gslc.net
END:VEVENT
BEGIN:VEVENT
DTSTART;TZID=America/Denver:20270328T093000
DTEND;TZID=America/Denver:20270328T103000
DTSTAMP:20260424T152520
CREATED:20260318T174716Z
LAST-MODIFIED:20260413T163538Z
UID:10001578-1806226200-1806229800@goodshepherdutah.com
SUMMARY:Sunday Morning Worship
DESCRIPTION:Join us for worship on Sunday mornings at Good Shepherd. Services are held at 8:00 and 9:30 AM. The 8:00 and 9:30 AM services are available online. We would love to have you join us this weekend
URL:https://goodshepherdutah.com/event/sunday-morning-worship/2027-03-28/
LOCATION:Good Shepherd\, 8575 South 700 East\, Sandy\, Utah\, 84070\, United States
CATEGORIES:Worship Service
ATTACH;FMTTYPE=image/png:https://goodshepherdutah.com/wp-content/uploads/2024/02/Worship.001.png
ORGANIZER;CN="Good Shepherd":MAILTO:shepherd@gslc.net
END:VEVENT
BEGIN:VEVENT
DTSTART;TZID=America/Denver:20270404T093000
DTEND;TZID=America/Denver:20270404T103000
DTSTAMP:20260424T152520
CREATED:20260318T174716Z
LAST-MODIFIED:20260413T163538Z
UID:10001579-1806831000-1806834600@goodshepherdutah.com
SUMMARY:Sunday Morning Worship
DESCRIPTION:Join us for worship on Sunday mornings at Good Shepherd. Services are held at 8:00 and 9:30 AM. The 8:00 and 9:30 AM services are available online. We would love to have you join us this weekend
URL:https://goodshepherdutah.com/event/sunday-morning-worship/2027-04-04/
LOCATION:Good Shepherd\, 8575 South 700 East\, Sandy\, Utah\, 84070\, United States
CATEGORIES:Worship Service
ATTACH;FMTTYPE=image/png:https://goodshepherdutah.com/wp-content/uploads/2024/02/Worship.001.png
ORGANIZER;CN="Good Shepherd":MAILTO:shepherd@gslc.net
END:VEVENT
BEGIN:VEVENT
DTSTART;TZID=America/Denver:20270411T093000
DTEND;TZID=America/Denver:20270411T103000
DTSTAMP:20260424T152520
CREATED:20260318T174716Z
LAST-MODIFIED:20260413T163538Z
UID:10001580-1807435800-1807439400@goodshepherdutah.com
SUMMARY:Sunday Morning Worship
DESCRIPTION:Join us for worship on Sunday mornings at Good Shepherd. Services are held at 8:00 and 9:30 AM. The 8:00 and 9:30 AM services are available online. We would love to have you join us this weekend
URL:https://goodshepherdutah.com/event/sunday-morning-worship/2027-04-11/
LOCATION:Good Shepherd\, 8575 South 700 East\, Sandy\, Utah\, 84070\, United States
CATEGORIES:Worship Service
ATTACH;FMTTYPE=image/png:https://goodshepherdutah.com/wp-content/uploads/2024/02/Worship.001.png
ORGANIZER;CN="Good Shepherd":MAILTO:shepherd@gslc.net
END:VEVENT
BEGIN:VEVENT
DTSTART;TZID=America/Denver:20270418T093000
DTEND;TZID=America/Denver:20270418T103000
DTSTAMP:20260424T152520
CREATED:20260318T174716Z
LAST-MODIFIED:20260413T163538Z
UID:10001581-1808040600-1808044200@goodshepherdutah.com
SUMMARY:Sunday Morning Worship
DESCRIPTION:Join us for worship on Sunday mornings at Good Shepherd. Services are held at 8:00 and 9:30 AM. The 8:00 and 9:30 AM services are available online. We would love to have you join us this weekend
URL:https://goodshepherdutah.com/event/sunday-morning-worship/2027-04-18/
LOCATION:Good Shepherd\, 8575 South 700 East\, Sandy\, Utah\, 84070\, United States
CATEGORIES:Worship Service
ATTACH;FMTTYPE=image/png:https://goodshepherdutah.com/wp-content/uploads/2024/02/Worship.001.png
ORGANIZER;CN="Good Shepherd":MAILTO:shepherd@gslc.net
END:VEVENT
BEGIN:VEVENT
DTSTART;TZID=America/Denver:20270425T093000
DTEND;TZID=America/Denver:20270425T103000
DTSTAMP:20260424T152520
CREATED:20260318T174716Z
LAST-MODIFIED:20260413T163538Z
UID:10001582-1808645400-1808649000@goodshepherdutah.com
SUMMARY:Sunday Morning Worship
DESCRIPTION:Join us for worship on Sunday mornings at Good Shepherd. Services are held at 8:00 and 9:30 AM. The 8:00 and 9:30 AM services are available online. We would love to have you join us this weekend
URL:https://goodshepherdutah.com/event/sunday-morning-worship/2027-04-25/
LOCATION:Good Shepherd\, 8575 South 700 East\, Sandy\, Utah\, 84070\, United States
CATEGORIES:Worship Service
ATTACH;FMTTYPE=image/png:https://goodshepherdutah.com/wp-content/uploads/2024/02/Worship.001.png
ORGANIZER;CN="Good Shepherd":MAILTO:shepherd@gslc.net
END:VEVENT
BEGIN:VEVENT
DTSTART;TZID=America/Denver:20270502T093000
DTEND;TZID=America/Denver:20270502T103000
DTSTAMP:20260424T152520
CREATED:20260318T174716Z
LAST-MODIFIED:20260413T163538Z
UID:10001583-1809250200-1809253800@goodshepherdutah.com
SUMMARY:Sunday Morning Worship
DESCRIPTION:Join us for worship on Sunday mornings at Good Shepherd. Services are held at 8:00 and 9:30 AM. The 8:00 and 9:30 AM services are available online. We would love to have you join us this weekend
URL:https://goodshepherdutah.com/event/sunday-morning-worship/2027-05-02/
LOCATION:Good Shepherd\, 8575 South 700 East\, Sandy\, Utah\, 84070\, United States
CATEGORIES:Worship Service
ATTACH;FMTTYPE=image/png:https://goodshepherdutah.com/wp-content/uploads/2024/02/Worship.001.png
ORGANIZER;CN="Good Shepherd":MAILTO:shepherd@gslc.net
END:VEVENT
END:VCALENDAR