BEGIN:VCALENDAR
VERSION:2.0
PRODID:-//Good Shepherd - ECPv6.15.20//NONSGML v1.0//EN
CALSCALE:GREGORIAN
METHOD:PUBLISH
X-WR-CALNAME:Good Shepherd
X-ORIGINAL-URL:https://goodshepherdutah.com
X-WR-CALDESC:Events for Good Shepherd
REFRESH-INTERVAL;VALUE=DURATION:PT1H
X-Robots-Tag:noindex
X-PUBLISHED-TTL:PT1H
BEGIN:VTIMEZONE
TZID:America/Denver
BEGIN:DAYLIGHT
TZOFFSETFROM:-0700
TZOFFSETTO:-0600
TZNAME:MDT
DTSTART:20250309T090000
END:DAYLIGHT
BEGIN:STANDARD
TZOFFSETFROM:-0600
TZOFFSETTO:-0700
TZNAME:MST
DTSTART:20251102T080000
END:STANDARD
BEGIN:DAYLIGHT
TZOFFSETFROM:-0700
TZOFFSETTO:-0600
TZNAME:MDT
DTSTART:20260308T090000
END:DAYLIGHT
BEGIN:STANDARD
TZOFFSETFROM:-0600
TZOFFSETTO:-0700
TZNAME:MST
DTSTART:20261101T080000
END:STANDARD
BEGIN:DAYLIGHT
TZOFFSETFROM:-0700
TZOFFSETTO:-0600
TZNAME:MDT
DTSTART:20270314T090000
END:DAYLIGHT
BEGIN:STANDARD
TZOFFSETFROM:-0600
TZOFFSETTO:-0700
TZNAME:MST
DTSTART:20271107T080000
END:STANDARD
END:VTIMEZONE
BEGIN:VEVENT
DTSTART;TZID=America/Denver:20260207T140000
DTEND;TZID=America/Denver:20260207T160000
DTSTAMP:20260425T084044
CREATED:20260128T203845Z
LAST-MODIFIED:20260128T213648Z
UID:10000848-1770472800-1770480000@goodshepherdutah.com
SUMMARY:GriefShare
DESCRIPTION:GriefShare is a class/support group open to everyone who has suffered the loss of someone to death including parents\, children\, relatives\, friends\, etc. The loss can be recent or can be in the past. If you are still struggling with your grief\, we welcome you to join us. We start each session with a prayer\, then we watch a video from GriefShare\, and finally we talk about the video and share our experiences. Everyone is at a different point in their grief journey\, and you are welcome to say as much or as little as you would like. \nLed by Dotty Parfrey\, this class/support group is taught with a Christian perspective but those from all faiths or no faith are welcome to attend. For more information or to register go to https://www.griefshare.org/groups/283333. Class fees are $20 to cover the price of the workbook you will receive at the first meeting. Scholarships are available.
URL:https://goodshepherdutah.com/event/griefshare/2026-02-07/
LOCATION:Good Shepherd Lutheran Church\, 8575 South 700 East\, Sandy\, Utah\, 84070\, United States
CATEGORIES:Support Group
ATTACH;FMTTYPE=image/png:https://goodshepherdutah.com/wp-content/uploads/2026/01/GriefShare-16x9-1.png
ORGANIZER;CN="Good Shepherd":MAILTO:shepherd@gslc.net
END:VEVENT
BEGIN:VEVENT
DTSTART;TZID=America/Denver:20260131T140000
DTEND;TZID=America/Denver:20260131T160000
DTSTAMP:20260425T084044
CREATED:20260128T203845Z
LAST-MODIFIED:20260128T213648Z
UID:10000847-1769868000-1769875200@goodshepherdutah.com
SUMMARY:GriefShare
DESCRIPTION:GriefShare is a class/support group open to everyone who has suffered the loss of someone to death including parents\, children\, relatives\, friends\, etc. The loss can be recent or can be in the past. If you are still struggling with your grief\, we welcome you to join us. We start each session with a prayer\, then we watch a video from GriefShare\, and finally we talk about the video and share our experiences. Everyone is at a different point in their grief journey\, and you are welcome to say as much or as little as you would like. \nLed by Dotty Parfrey\, this class/support group is taught with a Christian perspective but those from all faiths or no faith are welcome to attend. For more information or to register go to https://www.griefshare.org/groups/283333. Class fees are $20 to cover the price of the workbook you will receive at the first meeting. Scholarships are available.
URL:https://goodshepherdutah.com/event/griefshare/2026-01-31/
LOCATION:Good Shepherd Lutheran Church\, 8575 South 700 East\, Sandy\, Utah\, 84070\, United States
CATEGORIES:Support Group
ATTACH;FMTTYPE=image/png:https://goodshepherdutah.com/wp-content/uploads/2026/01/GriefShare-16x9-1.png
ORGANIZER;CN="Good Shepherd":MAILTO:shepherd@gslc.net
END:VEVENT
BEGIN:VEVENT
DTSTART;TZID=America/Denver:20260131T083000
DTEND;TZID=America/Denver:20260131T093000
DTSTAMP:20260425T084044
CREATED:20260116T163748Z
LAST-MODIFIED:20260116T163748Z
UID:10000821-1769848200-1769851800@goodshepherdutah.com
SUMMARY:Food Distribution
DESCRIPTION:  \n\n \n\n\n\nGood Shepherd has partnered with the Utah Food Bank and is hosting their Mobile Food Pantry program. Details on the Utah Food Bank’s Mobile Pantry program can be found on their website (utahfoodbank.org).  \n\n\n\nOn Saturday morning the event will be hosted in the Good Shepherd parking lot and food will be provided to the first 180 families. Food is provided in a drive thru format free of charge. The event will be held from 8:30 to 9:30 AM or until the food is all distributed. \n\nSIGN UP TO VOLUNTEER HERE
URL:https://goodshepherdutah.com/event/food-distribution-3/
LOCATION:Good Shepherd\, 8575 South 700 East\, Sandy\, Utah\, 84070\, United States
CATEGORIES:All Church Event,Community Service
ATTACH;FMTTYPE=image/png:https://goodshepherdutah.com/wp-content/uploads/2024/01/FD-Widescreen.png
ORGANIZER;CN="Good Shepherd":MAILTO:shepherd@gslc.net
END:VEVENT
END:VCALENDAR