BEGIN:VCALENDAR
VERSION:2.0
PRODID:-//Good Shepherd - ECPv6.15.20//NONSGML v1.0//EN
CALSCALE:GREGORIAN
METHOD:PUBLISH
X-WR-CALNAME:Good Shepherd
X-ORIGINAL-URL:https://goodshepherdutah.com
X-WR-CALDESC:Events for Good Shepherd
REFRESH-INTERVAL;VALUE=DURATION:PT1H
X-Robots-Tag:noindex
X-PUBLISHED-TTL:PT1H
BEGIN:VTIMEZONE
TZID:America/Denver
BEGIN:DAYLIGHT
TZOFFSETFROM:-0700
TZOFFSETTO:-0600
TZNAME:MDT
DTSTART:20260308T090000
END:DAYLIGHT
BEGIN:STANDARD
TZOFFSETFROM:-0600
TZOFFSETTO:-0700
TZNAME:MST
DTSTART:20261101T080000
END:STANDARD
BEGIN:DAYLIGHT
TZOFFSETFROM:-0700
TZOFFSETTO:-0600
TZNAME:MDT
DTSTART:20270314T090000
END:DAYLIGHT
BEGIN:STANDARD
TZOFFSETFROM:-0600
TZOFFSETTO:-0700
TZNAME:MST
DTSTART:20271107T080000
END:STANDARD
BEGIN:DAYLIGHT
TZOFFSETFROM:-0700
TZOFFSETTO:-0600
TZNAME:MDT
DTSTART:20280312T090000
END:DAYLIGHT
BEGIN:STANDARD
TZOFFSETFROM:-0600
TZOFFSETTO:-0700
TZNAME:MST
DTSTART:20281105T080000
END:STANDARD
BEGIN:DAYLIGHT
TZOFFSETFROM:-0700
TZOFFSETTO:-0600
TZNAME:MDT
DTSTART:20290311T090000
END:DAYLIGHT
BEGIN:STANDARD
TZOFFSETFROM:-0600
TZOFFSETTO:-0700
TZNAME:MST
DTSTART:20291104T080000
END:STANDARD
END:VTIMEZONE
BEGIN:VEVENT
DTSTART;TZID=America/Denver:20270620T093000
DTEND;TZID=America/Denver:20270620T103000
DTSTAMP:20260424T190606
CREATED:20260318T174716Z
LAST-MODIFIED:20260413T163538Z
UID:10001590-1813483800-1813487400@goodshepherdutah.com
SUMMARY:Sunday Morning Worship
DESCRIPTION:Join us for worship on Sunday mornings at Good Shepherd. Services are held at 8:00 and 9:30 AM. The 8:00 and 9:30 AM services are available online. We would love to have you join us this weekend
URL:https://goodshepherdutah.com/event/sunday-morning-worship/2027-06-20/
LOCATION:Good Shepherd\, 8575 South 700 East\, Sandy\, Utah\, 84070\, United States
CATEGORIES:Worship Service
ATTACH;FMTTYPE=image/png:https://goodshepherdutah.com/wp-content/uploads/2024/02/Worship.001.png
ORGANIZER;CN="Good Shepherd":MAILTO:shepherd@gslc.net
END:VEVENT
BEGIN:VEVENT
DTSTART;TZID=America/Denver:20270627T093000
DTEND;TZID=America/Denver:20270627T103000
DTSTAMP:20260424T190606
CREATED:20260318T174716Z
LAST-MODIFIED:20260413T163538Z
UID:10001591-1814088600-1814092200@goodshepherdutah.com
SUMMARY:Sunday Morning Worship
DESCRIPTION:Join us for worship on Sunday mornings at Good Shepherd. Services are held at 8:00 and 9:30 AM. The 8:00 and 9:30 AM services are available online. We would love to have you join us this weekend
URL:https://goodshepherdutah.com/event/sunday-morning-worship/2027-06-27/
LOCATION:Good Shepherd\, 8575 South 700 East\, Sandy\, Utah\, 84070\, United States
CATEGORIES:Worship Service
ATTACH;FMTTYPE=image/png:https://goodshepherdutah.com/wp-content/uploads/2024/02/Worship.001.png
ORGANIZER;CN="Good Shepherd":MAILTO:shepherd@gslc.net
END:VEVENT
BEGIN:VEVENT
DTSTART;TZID=America/Denver:20270704T093000
DTEND;TZID=America/Denver:20270704T103000
DTSTAMP:20260424T190606
CREATED:20260318T174716Z
LAST-MODIFIED:20260413T163538Z
UID:10001592-1814693400-1814697000@goodshepherdutah.com
SUMMARY:Sunday Morning Worship
DESCRIPTION:Join us for worship on Sunday mornings at Good Shepherd. Services are held at 8:00 and 9:30 AM. The 8:00 and 9:30 AM services are available online. We would love to have you join us this weekend
URL:https://goodshepherdutah.com/event/sunday-morning-worship/2027-07-04/
LOCATION:Good Shepherd\, 8575 South 700 East\, Sandy\, Utah\, 84070\, United States
CATEGORIES:Worship Service
ATTACH;FMTTYPE=image/png:https://goodshepherdutah.com/wp-content/uploads/2024/02/Worship.001.png
ORGANIZER;CN="Good Shepherd":MAILTO:shepherd@gslc.net
END:VEVENT
BEGIN:VEVENT
DTSTART;TZID=America/Denver:20270711T093000
DTEND;TZID=America/Denver:20270711T103000
DTSTAMP:20260424T190606
CREATED:20260318T174716Z
LAST-MODIFIED:20260413T163538Z
UID:10001593-1815298200-1815301800@goodshepherdutah.com
SUMMARY:Sunday Morning Worship
DESCRIPTION:Join us for worship on Sunday mornings at Good Shepherd. Services are held at 8:00 and 9:30 AM. The 8:00 and 9:30 AM services are available online. We would love to have you join us this weekend
URL:https://goodshepherdutah.com/event/sunday-morning-worship/2027-07-11/
LOCATION:Good Shepherd\, 8575 South 700 East\, Sandy\, Utah\, 84070\, United States
CATEGORIES:Worship Service
ATTACH;FMTTYPE=image/png:https://goodshepherdutah.com/wp-content/uploads/2024/02/Worship.001.png
ORGANIZER;CN="Good Shepherd":MAILTO:shepherd@gslc.net
END:VEVENT
BEGIN:VEVENT
DTSTART;TZID=America/Denver:20270718T093000
DTEND;TZID=America/Denver:20270718T103000
DTSTAMP:20260424T190606
CREATED:20260318T174716Z
LAST-MODIFIED:20260413T163538Z
UID:10001594-1815903000-1815906600@goodshepherdutah.com
SUMMARY:Sunday Morning Worship
DESCRIPTION:Join us for worship on Sunday mornings at Good Shepherd. Services are held at 8:00 and 9:30 AM. The 8:00 and 9:30 AM services are available online. We would love to have you join us this weekend
URL:https://goodshepherdutah.com/event/sunday-morning-worship/2027-07-18/
LOCATION:Good Shepherd\, 8575 South 700 East\, Sandy\, Utah\, 84070\, United States
CATEGORIES:Worship Service
ATTACH;FMTTYPE=image/png:https://goodshepherdutah.com/wp-content/uploads/2024/02/Worship.001.png
ORGANIZER;CN="Good Shepherd":MAILTO:shepherd@gslc.net
END:VEVENT
BEGIN:VEVENT
DTSTART;TZID=America/Denver:20270725T093000
DTEND;TZID=America/Denver:20270725T103000
DTSTAMP:20260424T190606
CREATED:20260318T174716Z
LAST-MODIFIED:20260413T163538Z
UID:10001595-1816507800-1816511400@goodshepherdutah.com
SUMMARY:Sunday Morning Worship
DESCRIPTION:Join us for worship on Sunday mornings at Good Shepherd. Services are held at 8:00 and 9:30 AM. The 8:00 and 9:30 AM services are available online. We would love to have you join us this weekend
URL:https://goodshepherdutah.com/event/sunday-morning-worship/2027-07-25/
LOCATION:Good Shepherd\, 8575 South 700 East\, Sandy\, Utah\, 84070\, United States
CATEGORIES:Worship Service
ATTACH;FMTTYPE=image/png:https://goodshepherdutah.com/wp-content/uploads/2024/02/Worship.001.png
ORGANIZER;CN="Good Shepherd":MAILTO:shepherd@gslc.net
END:VEVENT
BEGIN:VEVENT
DTSTART;TZID=America/Denver:20270801T093000
DTEND;TZID=America/Denver:20270801T103000
DTSTAMP:20260424T190606
CREATED:20260318T174716Z
LAST-MODIFIED:20260413T163538Z
UID:10001596-1817112600-1817116200@goodshepherdutah.com
SUMMARY:Sunday Morning Worship
DESCRIPTION:Join us for worship on Sunday mornings at Good Shepherd. Services are held at 8:00 and 9:30 AM. The 8:00 and 9:30 AM services are available online. We would love to have you join us this weekend
URL:https://goodshepherdutah.com/event/sunday-morning-worship/2027-08-01/
LOCATION:Good Shepherd\, 8575 South 700 East\, Sandy\, Utah\, 84070\, United States
CATEGORIES:Worship Service
ATTACH;FMTTYPE=image/png:https://goodshepherdutah.com/wp-content/uploads/2024/02/Worship.001.png
ORGANIZER;CN="Good Shepherd":MAILTO:shepherd@gslc.net
END:VEVENT
BEGIN:VEVENT
DTSTART;TZID=America/Denver:20270808T093000
DTEND;TZID=America/Denver:20270808T103000
DTSTAMP:20260424T190606
CREATED:20260318T174716Z
LAST-MODIFIED:20260413T163538Z
UID:10001597-1817717400-1817721000@goodshepherdutah.com
SUMMARY:Sunday Morning Worship
DESCRIPTION:Join us for worship on Sunday mornings at Good Shepherd. Services are held at 8:00 and 9:30 AM. The 8:00 and 9:30 AM services are available online. We would love to have you join us this weekend
URL:https://goodshepherdutah.com/event/sunday-morning-worship/2027-08-08/
LOCATION:Good Shepherd\, 8575 South 700 East\, Sandy\, Utah\, 84070\, United States
CATEGORIES:Worship Service
ATTACH;FMTTYPE=image/png:https://goodshepherdutah.com/wp-content/uploads/2024/02/Worship.001.png
ORGANIZER;CN="Good Shepherd":MAILTO:shepherd@gslc.net
END:VEVENT
BEGIN:VEVENT
DTSTART;TZID=America/Denver:20270815T093000
DTEND;TZID=America/Denver:20270815T103000
DTSTAMP:20260424T190606
CREATED:20260318T174716Z
LAST-MODIFIED:20260413T163538Z
UID:10001598-1818322200-1818325800@goodshepherdutah.com
SUMMARY:Sunday Morning Worship
DESCRIPTION:Join us for worship on Sunday mornings at Good Shepherd. Services are held at 8:00 and 9:30 AM. The 8:00 and 9:30 AM services are available online. We would love to have you join us this weekend
URL:https://goodshepherdutah.com/event/sunday-morning-worship/2027-08-15/
LOCATION:Good Shepherd\, 8575 South 700 East\, Sandy\, Utah\, 84070\, United States
CATEGORIES:Worship Service
ATTACH;FMTTYPE=image/png:https://goodshepherdutah.com/wp-content/uploads/2024/02/Worship.001.png
ORGANIZER;CN="Good Shepherd":MAILTO:shepherd@gslc.net
END:VEVENT
BEGIN:VEVENT
DTSTART;TZID=America/Denver:20270822T093000
DTEND;TZID=America/Denver:20270822T103000
DTSTAMP:20260424T190606
CREATED:20260318T174716Z
LAST-MODIFIED:20260413T163538Z
UID:10001599-1818927000-1818930600@goodshepherdutah.com
SUMMARY:Sunday Morning Worship
DESCRIPTION:Join us for worship on Sunday mornings at Good Shepherd. Services are held at 8:00 and 9:30 AM. The 8:00 and 9:30 AM services are available online. We would love to have you join us this weekend
URL:https://goodshepherdutah.com/event/sunday-morning-worship/2027-08-22/
LOCATION:Good Shepherd\, 8575 South 700 East\, Sandy\, Utah\, 84070\, United States
CATEGORIES:Worship Service
ATTACH;FMTTYPE=image/png:https://goodshepherdutah.com/wp-content/uploads/2024/02/Worship.001.png
ORGANIZER;CN="Good Shepherd":MAILTO:shepherd@gslc.net
END:VEVENT
BEGIN:VEVENT
DTSTART;TZID=America/Denver:20270829T093000
DTEND;TZID=America/Denver:20270829T103000
DTSTAMP:20260424T190606
CREATED:20260318T174716Z
LAST-MODIFIED:20260413T163538Z
UID:10001600-1819531800-1819535400@goodshepherdutah.com
SUMMARY:Sunday Morning Worship
DESCRIPTION:Join us for worship on Sunday mornings at Good Shepherd. Services are held at 8:00 and 9:30 AM. The 8:00 and 9:30 AM services are available online. We would love to have you join us this weekend
URL:https://goodshepherdutah.com/event/sunday-morning-worship/2027-08-29/
LOCATION:Good Shepherd\, 8575 South 700 East\, Sandy\, Utah\, 84070\, United States
CATEGORIES:Worship Service
ATTACH;FMTTYPE=image/png:https://goodshepherdutah.com/wp-content/uploads/2024/02/Worship.001.png
ORGANIZER;CN="Good Shepherd":MAILTO:shepherd@gslc.net
END:VEVENT
BEGIN:VEVENT
DTSTART;TZID=America/Denver:20270905T093000
DTEND;TZID=America/Denver:20270905T103000
DTSTAMP:20260424T190606
CREATED:20260318T174716Z
LAST-MODIFIED:20260413T163538Z
UID:10001601-1820136600-1820140200@goodshepherdutah.com
SUMMARY:Sunday Morning Worship
DESCRIPTION:Join us for worship on Sunday mornings at Good Shepherd. Services are held at 8:00 and 9:30 AM. The 8:00 and 9:30 AM services are available online. We would love to have you join us this weekend
URL:https://goodshepherdutah.com/event/sunday-morning-worship/2027-09-05/
LOCATION:Good Shepherd\, 8575 South 700 East\, Sandy\, Utah\, 84070\, United States
CATEGORIES:Worship Service
ATTACH;FMTTYPE=image/png:https://goodshepherdutah.com/wp-content/uploads/2024/02/Worship.001.png
ORGANIZER;CN="Good Shepherd":MAILTO:shepherd@gslc.net
END:VEVENT
BEGIN:VEVENT
DTSTART;TZID=America/Denver:20270912T093000
DTEND;TZID=America/Denver:20270912T103000
DTSTAMP:20260424T190606
CREATED:20260318T174716Z
LAST-MODIFIED:20260413T163538Z
UID:10001602-1820741400-1820745000@goodshepherdutah.com
SUMMARY:Sunday Morning Worship
DESCRIPTION:Join us for worship on Sunday mornings at Good Shepherd. Services are held at 8:00 and 9:30 AM. The 8:00 and 9:30 AM services are available online. We would love to have you join us this weekend
URL:https://goodshepherdutah.com/event/sunday-morning-worship/2027-09-12/
LOCATION:Good Shepherd\, 8575 South 700 East\, Sandy\, Utah\, 84070\, United States
CATEGORIES:Worship Service
ATTACH;FMTTYPE=image/png:https://goodshepherdutah.com/wp-content/uploads/2024/02/Worship.001.png
ORGANIZER;CN="Good Shepherd":MAILTO:shepherd@gslc.net
END:VEVENT
BEGIN:VEVENT
DTSTART;TZID=America/Denver:20270919T093000
DTEND;TZID=America/Denver:20270919T103000
DTSTAMP:20260424T190606
CREATED:20260318T174716Z
LAST-MODIFIED:20260413T163538Z
UID:10001603-1821346200-1821349800@goodshepherdutah.com
SUMMARY:Sunday Morning Worship
DESCRIPTION:Join us for worship on Sunday mornings at Good Shepherd. Services are held at 8:00 and 9:30 AM. The 8:00 and 9:30 AM services are available online. We would love to have you join us this weekend
URL:https://goodshepherdutah.com/event/sunday-morning-worship/2027-09-19/
LOCATION:Good Shepherd\, 8575 South 700 East\, Sandy\, Utah\, 84070\, United States
CATEGORIES:Worship Service
ATTACH;FMTTYPE=image/png:https://goodshepherdutah.com/wp-content/uploads/2024/02/Worship.001.png
ORGANIZER;CN="Good Shepherd":MAILTO:shepherd@gslc.net
END:VEVENT
BEGIN:VEVENT
DTSTART;TZID=America/Denver:20270926T093000
DTEND;TZID=America/Denver:20270926T103000
DTSTAMP:20260424T190607
CREATED:20260318T174716Z
LAST-MODIFIED:20260413T163538Z
UID:10001604-1821951000-1821954600@goodshepherdutah.com
SUMMARY:Sunday Morning Worship
DESCRIPTION:Join us for worship on Sunday mornings at Good Shepherd. Services are held at 8:00 and 9:30 AM. The 8:00 and 9:30 AM services are available online. We would love to have you join us this weekend
URL:https://goodshepherdutah.com/event/sunday-morning-worship/2027-09-26/
LOCATION:Good Shepherd\, 8575 South 700 East\, Sandy\, Utah\, 84070\, United States
CATEGORIES:Worship Service
ATTACH;FMTTYPE=image/png:https://goodshepherdutah.com/wp-content/uploads/2024/02/Worship.001.png
ORGANIZER;CN="Good Shepherd":MAILTO:shepherd@gslc.net
END:VEVENT
BEGIN:VEVENT
DTSTART;TZID=America/Denver:20271003T093000
DTEND;TZID=America/Denver:20271003T103000
DTSTAMP:20260424T190607
CREATED:20260318T174716Z
LAST-MODIFIED:20260413T163538Z
UID:10001605-1822555800-1822559400@goodshepherdutah.com
SUMMARY:Sunday Morning Worship
DESCRIPTION:Join us for worship on Sunday mornings at Good Shepherd. Services are held at 8:00 and 9:30 AM. The 8:00 and 9:30 AM services are available online. We would love to have you join us this weekend
URL:https://goodshepherdutah.com/event/sunday-morning-worship/2027-10-03/
LOCATION:Good Shepherd\, 8575 South 700 East\, Sandy\, Utah\, 84070\, United States
CATEGORIES:Worship Service
ATTACH;FMTTYPE=image/png:https://goodshepherdutah.com/wp-content/uploads/2024/02/Worship.001.png
ORGANIZER;CN="Good Shepherd":MAILTO:shepherd@gslc.net
END:VEVENT
BEGIN:VEVENT
DTSTART;TZID=America/Denver:20271010T093000
DTEND;TZID=America/Denver:20271010T103000
DTSTAMP:20260424T190607
CREATED:20260318T174716Z
LAST-MODIFIED:20260413T163538Z
UID:10001606-1823160600-1823164200@goodshepherdutah.com
SUMMARY:Sunday Morning Worship
DESCRIPTION:Join us for worship on Sunday mornings at Good Shepherd. Services are held at 8:00 and 9:30 AM. The 8:00 and 9:30 AM services are available online. We would love to have you join us this weekend
URL:https://goodshepherdutah.com/event/sunday-morning-worship/2027-10-10/
LOCATION:Good Shepherd\, 8575 South 700 East\, Sandy\, Utah\, 84070\, United States
CATEGORIES:Worship Service
ATTACH;FMTTYPE=image/png:https://goodshepherdutah.com/wp-content/uploads/2024/02/Worship.001.png
ORGANIZER;CN="Good Shepherd":MAILTO:shepherd@gslc.net
END:VEVENT
BEGIN:VEVENT
DTSTART;TZID=America/Denver:20271017T093000
DTEND;TZID=America/Denver:20271017T103000
DTSTAMP:20260424T190607
CREATED:20260318T174716Z
LAST-MODIFIED:20260413T163538Z
UID:10001607-1823765400-1823769000@goodshepherdutah.com
SUMMARY:Sunday Morning Worship
DESCRIPTION:Join us for worship on Sunday mornings at Good Shepherd. Services are held at 8:00 and 9:30 AM. The 8:00 and 9:30 AM services are available online. We would love to have you join us this weekend
URL:https://goodshepherdutah.com/event/sunday-morning-worship/2027-10-17/
LOCATION:Good Shepherd\, 8575 South 700 East\, Sandy\, Utah\, 84070\, United States
CATEGORIES:Worship Service
ATTACH;FMTTYPE=image/png:https://goodshepherdutah.com/wp-content/uploads/2024/02/Worship.001.png
ORGANIZER;CN="Good Shepherd":MAILTO:shepherd@gslc.net
END:VEVENT
BEGIN:VEVENT
DTSTART;TZID=America/Denver:20271024T093000
DTEND;TZID=America/Denver:20271024T103000
DTSTAMP:20260424T190607
CREATED:20260318T174716Z
LAST-MODIFIED:20260413T163538Z
UID:10001608-1824370200-1824373800@goodshepherdutah.com
SUMMARY:Sunday Morning Worship
DESCRIPTION:Join us for worship on Sunday mornings at Good Shepherd. Services are held at 8:00 and 9:30 AM. The 8:00 and 9:30 AM services are available online. We would love to have you join us this weekend
URL:https://goodshepherdutah.com/event/sunday-morning-worship/2027-10-24/
LOCATION:Good Shepherd\, 8575 South 700 East\, Sandy\, Utah\, 84070\, United States
CATEGORIES:Worship Service
ATTACH;FMTTYPE=image/png:https://goodshepherdutah.com/wp-content/uploads/2024/02/Worship.001.png
ORGANIZER;CN="Good Shepherd":MAILTO:shepherd@gslc.net
END:VEVENT
BEGIN:VEVENT
DTSTART;TZID=America/Denver:20271031T093000
DTEND;TZID=America/Denver:20271031T103000
DTSTAMP:20260424T190607
CREATED:20260318T174716Z
LAST-MODIFIED:20260413T163538Z
UID:10001609-1824975000-1824978600@goodshepherdutah.com
SUMMARY:Sunday Morning Worship
DESCRIPTION:Join us for worship on Sunday mornings at Good Shepherd. Services are held at 8:00 and 9:30 AM. The 8:00 and 9:30 AM services are available online. We would love to have you join us this weekend
URL:https://goodshepherdutah.com/event/sunday-morning-worship/2027-10-31/
LOCATION:Good Shepherd\, 8575 South 700 East\, Sandy\, Utah\, 84070\, United States
CATEGORIES:Worship Service
ATTACH;FMTTYPE=image/png:https://goodshepherdutah.com/wp-content/uploads/2024/02/Worship.001.png
ORGANIZER;CN="Good Shepherd":MAILTO:shepherd@gslc.net
END:VEVENT
BEGIN:VEVENT
DTSTART;TZID=America/Denver:20271107T093000
DTEND;TZID=America/Denver:20271107T103000
DTSTAMP:20260424T190607
CREATED:20260318T174716Z
LAST-MODIFIED:20260413T163538Z
UID:10001610-1825579800-1825583400@goodshepherdutah.com
SUMMARY:Sunday Morning Worship
DESCRIPTION:Join us for worship on Sunday mornings at Good Shepherd. Services are held at 8:00 and 9:30 AM. The 8:00 and 9:30 AM services are available online. We would love to have you join us this weekend
URL:https://goodshepherdutah.com/event/sunday-morning-worship/2027-11-07/
LOCATION:Good Shepherd\, 8575 South 700 East\, Sandy\, Utah\, 84070\, United States
CATEGORIES:Worship Service
ATTACH;FMTTYPE=image/png:https://goodshepherdutah.com/wp-content/uploads/2024/02/Worship.001.png
ORGANIZER;CN="Good Shepherd":MAILTO:shepherd@gslc.net
END:VEVENT
BEGIN:VEVENT
DTSTART;TZID=America/Denver:20271114T093000
DTEND;TZID=America/Denver:20271114T103000
DTSTAMP:20260424T190607
CREATED:20260318T174716Z
LAST-MODIFIED:20260413T163538Z
UID:10001611-1826184600-1826188200@goodshepherdutah.com
SUMMARY:Sunday Morning Worship
DESCRIPTION:Join us for worship on Sunday mornings at Good Shepherd. Services are held at 8:00 and 9:30 AM. The 8:00 and 9:30 AM services are available online. We would love to have you join us this weekend
URL:https://goodshepherdutah.com/event/sunday-morning-worship/2027-11-14/
LOCATION:Good Shepherd\, 8575 South 700 East\, Sandy\, Utah\, 84070\, United States
CATEGORIES:Worship Service
ATTACH;FMTTYPE=image/png:https://goodshepherdutah.com/wp-content/uploads/2024/02/Worship.001.png
ORGANIZER;CN="Good Shepherd":MAILTO:shepherd@gslc.net
END:VEVENT
BEGIN:VEVENT
DTSTART;TZID=America/Denver:20271121T093000
DTEND;TZID=America/Denver:20271121T103000
DTSTAMP:20260424T190607
CREATED:20260318T174716Z
LAST-MODIFIED:20260413T163538Z
UID:10001612-1826789400-1826793000@goodshepherdutah.com
SUMMARY:Sunday Morning Worship
DESCRIPTION:Join us for worship on Sunday mornings at Good Shepherd. Services are held at 8:00 and 9:30 AM. The 8:00 and 9:30 AM services are available online. We would love to have you join us this weekend
URL:https://goodshepherdutah.com/event/sunday-morning-worship/2027-11-21/
LOCATION:Good Shepherd\, 8575 South 700 East\, Sandy\, Utah\, 84070\, United States
CATEGORIES:Worship Service
ATTACH;FMTTYPE=image/png:https://goodshepherdutah.com/wp-content/uploads/2024/02/Worship.001.png
ORGANIZER;CN="Good Shepherd":MAILTO:shepherd@gslc.net
END:VEVENT
BEGIN:VEVENT
DTSTART;TZID=America/Denver:20271128T093000
DTEND;TZID=America/Denver:20271128T103000
DTSTAMP:20260424T190607
CREATED:20260318T174716Z
LAST-MODIFIED:20260413T163538Z
UID:10001613-1827394200-1827397800@goodshepherdutah.com
SUMMARY:Sunday Morning Worship
DESCRIPTION:Join us for worship on Sunday mornings at Good Shepherd. Services are held at 8:00 and 9:30 AM. The 8:00 and 9:30 AM services are available online. We would love to have you join us this weekend
URL:https://goodshepherdutah.com/event/sunday-morning-worship/2027-11-28/
LOCATION:Good Shepherd\, 8575 South 700 East\, Sandy\, Utah\, 84070\, United States
CATEGORIES:Worship Service
ATTACH;FMTTYPE=image/png:https://goodshepherdutah.com/wp-content/uploads/2024/02/Worship.001.png
ORGANIZER;CN="Good Shepherd":MAILTO:shepherd@gslc.net
END:VEVENT
BEGIN:VEVENT
DTSTART;TZID=America/Denver:20271205T093000
DTEND;TZID=America/Denver:20271205T103000
DTSTAMP:20260424T190607
CREATED:20260318T174716Z
LAST-MODIFIED:20260413T163538Z
UID:10001614-1827999000-1828002600@goodshepherdutah.com
SUMMARY:Sunday Morning Worship
DESCRIPTION:Join us for worship on Sunday mornings at Good Shepherd. Services are held at 8:00 and 9:30 AM. The 8:00 and 9:30 AM services are available online. We would love to have you join us this weekend
URL:https://goodshepherdutah.com/event/sunday-morning-worship/2027-12-05/
LOCATION:Good Shepherd\, 8575 South 700 East\, Sandy\, Utah\, 84070\, United States
CATEGORIES:Worship Service
ATTACH;FMTTYPE=image/png:https://goodshepherdutah.com/wp-content/uploads/2024/02/Worship.001.png
ORGANIZER;CN="Good Shepherd":MAILTO:shepherd@gslc.net
END:VEVENT
BEGIN:VEVENT
DTSTART;TZID=America/Denver:20271212T093000
DTEND;TZID=America/Denver:20271212T103000
DTSTAMP:20260424T190607
CREATED:20260318T174716Z
LAST-MODIFIED:20260413T163538Z
UID:10001615-1828603800-1828607400@goodshepherdutah.com
SUMMARY:Sunday Morning Worship
DESCRIPTION:Join us for worship on Sunday mornings at Good Shepherd. Services are held at 8:00 and 9:30 AM. The 8:00 and 9:30 AM services are available online. We would love to have you join us this weekend
URL:https://goodshepherdutah.com/event/sunday-morning-worship/2027-12-12/
LOCATION:Good Shepherd\, 8575 South 700 East\, Sandy\, Utah\, 84070\, United States
CATEGORIES:Worship Service
ATTACH;FMTTYPE=image/png:https://goodshepherdutah.com/wp-content/uploads/2024/02/Worship.001.png
ORGANIZER;CN="Good Shepherd":MAILTO:shepherd@gslc.net
END:VEVENT
BEGIN:VEVENT
DTSTART;TZID=America/Denver:20271219T093000
DTEND;TZID=America/Denver:20271219T103000
DTSTAMP:20260424T190607
CREATED:20260318T174716Z
LAST-MODIFIED:20260413T163538Z
UID:10001616-1829208600-1829212200@goodshepherdutah.com
SUMMARY:Sunday Morning Worship
DESCRIPTION:Join us for worship on Sunday mornings at Good Shepherd. Services are held at 8:00 and 9:30 AM. The 8:00 and 9:30 AM services are available online. We would love to have you join us this weekend
URL:https://goodshepherdutah.com/event/sunday-morning-worship/2027-12-19/
LOCATION:Good Shepherd\, 8575 South 700 East\, Sandy\, Utah\, 84070\, United States
CATEGORIES:Worship Service
ATTACH;FMTTYPE=image/png:https://goodshepherdutah.com/wp-content/uploads/2024/02/Worship.001.png
ORGANIZER;CN="Good Shepherd":MAILTO:shepherd@gslc.net
END:VEVENT
BEGIN:VEVENT
DTSTART;TZID=America/Denver:20271226T093000
DTEND;TZID=America/Denver:20271226T103000
DTSTAMP:20260424T190607
CREATED:20260318T174716Z
LAST-MODIFIED:20260413T163538Z
UID:10001617-1829813400-1829817000@goodshepherdutah.com
SUMMARY:Sunday Morning Worship
DESCRIPTION:Join us for worship on Sunday mornings at Good Shepherd. Services are held at 8:00 and 9:30 AM. The 8:00 and 9:30 AM services are available online. We would love to have you join us this weekend
URL:https://goodshepherdutah.com/event/sunday-morning-worship/2027-12-26/
LOCATION:Good Shepherd\, 8575 South 700 East\, Sandy\, Utah\, 84070\, United States
CATEGORIES:Worship Service
ATTACH;FMTTYPE=image/png:https://goodshepherdutah.com/wp-content/uploads/2024/02/Worship.001.png
ORGANIZER;CN="Good Shepherd":MAILTO:shepherd@gslc.net
END:VEVENT
BEGIN:VEVENT
DTSTART;TZID=America/Denver:20280102T093000
DTEND;TZID=America/Denver:20280102T103000
DTSTAMP:20260424T190607
CREATED:20260318T174716Z
LAST-MODIFIED:20260413T163538Z
UID:10001618-1830418200-1830421800@goodshepherdutah.com
SUMMARY:Sunday Morning Worship
DESCRIPTION:Join us for worship on Sunday mornings at Good Shepherd. Services are held at 8:00 and 9:30 AM. The 8:00 and 9:30 AM services are available online. We would love to have you join us this weekend
URL:https://goodshepherdutah.com/event/sunday-morning-worship/2028-01-02/
LOCATION:Good Shepherd\, 8575 South 700 East\, Sandy\, Utah\, 84070\, United States
CATEGORIES:Worship Service
ATTACH;FMTTYPE=image/png:https://goodshepherdutah.com/wp-content/uploads/2024/02/Worship.001.png
ORGANIZER;CN="Good Shepherd":MAILTO:shepherd@gslc.net
END:VEVENT
BEGIN:VEVENT
DTSTART;TZID=America/Denver:20280109T093000
DTEND;TZID=America/Denver:20280109T103000
DTSTAMP:20260424T190607
CREATED:20260318T174716Z
LAST-MODIFIED:20260413T163538Z
UID:10001619-1831023000-1831026600@goodshepherdutah.com
SUMMARY:Sunday Morning Worship
DESCRIPTION:Join us for worship on Sunday mornings at Good Shepherd. Services are held at 8:00 and 9:30 AM. The 8:00 and 9:30 AM services are available online. We would love to have you join us this weekend
URL:https://goodshepherdutah.com/event/sunday-morning-worship/2028-01-09/
LOCATION:Good Shepherd\, 8575 South 700 East\, Sandy\, Utah\, 84070\, United States
CATEGORIES:Worship Service
ATTACH;FMTTYPE=image/png:https://goodshepherdutah.com/wp-content/uploads/2024/02/Worship.001.png
ORGANIZER;CN="Good Shepherd":MAILTO:shepherd@gslc.net
END:VEVENT
END:VCALENDAR